BEGIN:VCALENDAR
VERSION:2.0
PRODID:-//Norfolk and Norwich Horticultural Society - ECPv6.15.20//NONSGML v1.0//EN
CALSCALE:GREGORIAN
METHOD:PUBLISH
X-WR-CALNAME:Norfolk and Norwich Horticultural Society
X-ORIGINAL-URL:https://www.nnhs.org.uk
X-WR-CALDESC:Events for Norfolk and Norwich Horticultural Society
REFRESH-INTERVAL;VALUE=DURATION:PT1H
X-Robots-Tag:noindex
X-PUBLISHED-TTL:PT1H
BEGIN:VTIMEZONE
TZID:Europe/London
BEGIN:DAYLIGHT
TZOFFSETFROM:+0000
TZOFFSETTO:+0100
TZNAME:BST
DTSTART:20250330T010000
END:DAYLIGHT
BEGIN:STANDARD
TZOFFSETFROM:+0100
TZOFFSETTO:+0000
TZNAME:GMT
DTSTART:20251026T010000
END:STANDARD
BEGIN:DAYLIGHT
TZOFFSETFROM:+0000
TZOFFSETTO:+0100
TZNAME:BST
DTSTART:20260329T010000
END:DAYLIGHT
BEGIN:STANDARD
TZOFFSETFROM:+0100
TZOFFSETTO:+0000
TZNAME:GMT
DTSTART:20261025T010000
END:STANDARD
BEGIN:DAYLIGHT
TZOFFSETFROM:+0000
TZOFFSETTO:+0100
TZNAME:BST
DTSTART:20270328T010000
END:DAYLIGHT
BEGIN:STANDARD
TZOFFSETFROM:+0100
TZOFFSETTO:+0000
TZNAME:GMT
DTSTART:20271031T010000
END:STANDARD
END:VTIMEZONE
BEGIN:VEVENT
DTSTART;TZID=Europe/London:20260425T140000
DTEND;TZID=Europe/London:20260425T170000
DTSTAMP:20260425T013325
CREATED:20260314T074616Z
LAST-MODIFIED:20260314T074616Z
UID:7100-1777125600-1777136400@www.nnhs.org.uk
SUMMARY:AGS Norfolk Group talk by Alice Hunter on Spring on the four Islands of the Mediterannean
DESCRIPTION:Alice Hunter is a specialist in wildlife & landscape photography. Growing up in rural Herefordshire she was always fascinated by nature and wildlife. Encouraged by her family Alice went on to win international competitions for her photographs. She contributes to the Wildscreen Exchange initiative to help conservation charities raise awareness of their causes. Alice leads wildlife photography tours for Greentours. Her talks are enjoyed by garden clubs as well as U3A.
URL:https://www.nnhs.org.uk/event/ags-norfolk-group-talk-by-alice-hunter-on-spring-on-the-four-islands-of-the-mediterannean/
LOCATION:Hethersett Village Hall\, Hethersett Village Hall\, Back Lane\, Hethersett\, Norwich\, Norfolk\, NR9 3JJ\, United Kingdom
CATEGORIES:Affiliated Society Meeting
ATTACH;FMTTYPE=image/jpeg:https://www.nnhs.org.uk/wp-content/uploads/2026/03/La-Parata-Headland-and-Les-Iles-Sanguinaires-450x300-1.jpg
ORGANIZER;CN="Alpine Garden Society%2C Norfolk Group":MAILTO:dianenblyth@gmail.com
END:VEVENT
END:VCALENDAR