BEGIN:VCALENDAR
VERSION:2.0
PRODID:-//Norfolk and Norwich Horticultural Society - ECPv6.15.20//NONSGML v1.0//EN
CALSCALE:GREGORIAN
METHOD:PUBLISH
X-WR-CALNAME:Norfolk and Norwich Horticultural Society
X-ORIGINAL-URL:https://www.nnhs.org.uk
X-WR-CALDESC:Events for Norfolk and Norwich Horticultural Society
REFRESH-INTERVAL;VALUE=DURATION:PT1H
X-Robots-Tag:noindex
X-PUBLISHED-TTL:PT1H
BEGIN:VTIMEZONE
TZID:Europe/London
BEGIN:DAYLIGHT
TZOFFSETFROM:+0000
TZOFFSETTO:+0100
TZNAME:BST
DTSTART:20220327T010000
END:DAYLIGHT
BEGIN:STANDARD
TZOFFSETFROM:+0100
TZOFFSETTO:+0000
TZNAME:GMT
DTSTART:20221030T010000
END:STANDARD
BEGIN:DAYLIGHT
TZOFFSETFROM:+0000
TZOFFSETTO:+0100
TZNAME:BST
DTSTART:20230326T010000
END:DAYLIGHT
BEGIN:STANDARD
TZOFFSETFROM:+0100
TZOFFSETTO:+0000
TZNAME:GMT
DTSTART:20231029T010000
END:STANDARD
BEGIN:DAYLIGHT
TZOFFSETFROM:+0000
TZOFFSETTO:+0100
TZNAME:BST
DTSTART:20240331T010000
END:DAYLIGHT
BEGIN:STANDARD
TZOFFSETFROM:+0100
TZOFFSETTO:+0000
TZNAME:GMT
DTSTART:20241027T010000
END:STANDARD
END:VTIMEZONE
BEGIN:VEVENT
DTSTART;TZID=Europe/London:20230803T080000
DTEND;TZID=Europe/London:20230803T183000
DTSTAMP:20260424T005519
CREATED:20230203T161002Z
LAST-MODIFIED:20230712T125341Z
UID:3345-1691049600-1691087400@www.nnhs.org.uk
SUMMARY:NNHS Coach trip to RHS Hyde Hall Plant Fair
DESCRIPTION:A day trip with Avanti Coach Travel to the ever popular RHS Garden Hyde Hall Plant Fair in Essex. \nWe will depart from Easton College at 8am and return around 6.30pm. \nA few seats still available\, booking open to all. \nBook a place(s) by using these links: \n1 person: https://pay.gocardless.com/BRT0001RN20YCV2 \n2 people: https://pay.gocardless.com/BRT0001RN26M6WN \nOr use this downloadable booking form: \nRHS Hyde Hall 030823 Booking form
URL:https://www.nnhs.org.uk/event/coach-trip-to-rhs-hyde-hall-plant-fair/
LOCATION:RHS Garden Hyde Hall\, RHS Garden Hyde Hall\, Chelmsford\, Essex\, CM3 8ET\, United Kingdom
CATEGORIES:Coach Trip,Garden Visit,Plant Fair
ATTACH;FMTTYPE=image/jpeg:https://www.nnhs.org.uk/wp-content/uploads/2020/02/hyde-hall.jpg
ORGANIZER;CN="Norfolk & Norwich Horticultural Society":MAILTO:secretary@nnhs.org.uk
END:VEVENT
END:VCALENDAR