BEGIN:VCALENDAR
VERSION:2.0
PRODID:-//Norfolk and Norwich Horticultural Society - ECPv6.15.20//NONSGML v1.0//EN
CALSCALE:GREGORIAN
METHOD:PUBLISH
X-WR-CALNAME:Norfolk and Norwich Horticultural Society
X-ORIGINAL-URL:https://www.nnhs.org.uk
X-WR-CALDESC:Events for Norfolk and Norwich Horticultural Society
REFRESH-INTERVAL;VALUE=DURATION:PT1H
X-Robots-Tag:noindex
X-PUBLISHED-TTL:PT1H
BEGIN:VTIMEZONE
TZID:Europe/London
BEGIN:DAYLIGHT
TZOFFSETFROM:+0000
TZOFFSETTO:+0100
TZNAME:BST
DTSTART:20230326T010000
END:DAYLIGHT
BEGIN:STANDARD
TZOFFSETFROM:+0100
TZOFFSETTO:+0000
TZNAME:GMT
DTSTART:20231029T010000
END:STANDARD
BEGIN:DAYLIGHT
TZOFFSETFROM:+0000
TZOFFSETTO:+0100
TZNAME:BST
DTSTART:20240331T010000
END:DAYLIGHT
BEGIN:STANDARD
TZOFFSETFROM:+0100
TZOFFSETTO:+0000
TZNAME:GMT
DTSTART:20241027T010000
END:STANDARD
BEGIN:DAYLIGHT
TZOFFSETFROM:+0000
TZOFFSETTO:+0100
TZNAME:BST
DTSTART:20250330T010000
END:DAYLIGHT
BEGIN:STANDARD
TZOFFSETFROM:+0100
TZOFFSETTO:+0000
TZNAME:GMT
DTSTART:20251026T010000
END:STANDARD
END:VTIMEZONE
BEGIN:VEVENT
DTSTART;TZID=Europe/London:20240630T000000
DTEND;TZID=Europe/London:20240630T000000
DTSTAMP:20260423T104217
CREATED:20240630T190923Z
LAST-MODIFIED:20240630T191036Z
UID:4693-1719705600-1719705600@www.nnhs.org.uk
SUMMARY:Coach trip to Alpine Garden Society Spring Show
DESCRIPTION:For the second year running\, the Alpine Garden Society Spring Show will take place at Chelmsford Racecourse on 1 March 2025. \nWe have a coach booked with Avanti Travel.  Further details and booking details will follow.
URL:https://www.nnhs.org.uk/event/coach-trip-to-alpine-garden-society-spring-show/
LOCATION:Lincolnshire
CATEGORIES:Coach Trip,Plant Fair,Show
ATTACH;FMTTYPE=image/jpeg:https://www.nnhs.org.uk/wp-content/uploads/2024/06/P1150130-scaled.jpg
END:VEVENT
END:VCALENDAR