BEGIN:VCALENDAR
VERSION:2.0
PRODID:-//Norfolk and Norwich Horticultural Society - ECPv6.15.20//NONSGML v1.0//EN
CALSCALE:GREGORIAN
METHOD:PUBLISH
X-ORIGINAL-URL:https://www.nnhs.org.uk
X-WR-CALDESC:Events for Norfolk and Norwich Horticultural Society
REFRESH-INTERVAL;VALUE=DURATION:PT1H
X-Robots-Tag:noindex
X-PUBLISHED-TTL:PT1H
BEGIN:VTIMEZONE
TZID:Europe/London
BEGIN:DAYLIGHT
TZOFFSETFROM:+0000
TZOFFSETTO:+0100
TZNAME:BST
DTSTART:20230326T010000
END:DAYLIGHT
BEGIN:STANDARD
TZOFFSETFROM:+0100
TZOFFSETTO:+0000
TZNAME:GMT
DTSTART:20231029T010000
END:STANDARD
BEGIN:DAYLIGHT
TZOFFSETFROM:+0000
TZOFFSETTO:+0100
TZNAME:BST
DTSTART:20240331T010000
END:DAYLIGHT
BEGIN:STANDARD
TZOFFSETFROM:+0100
TZOFFSETTO:+0000
TZNAME:GMT
DTSTART:20241027T010000
END:STANDARD
BEGIN:DAYLIGHT
TZOFFSETFROM:+0000
TZOFFSETTO:+0100
TZNAME:BST
DTSTART:20250330T010000
END:DAYLIGHT
BEGIN:STANDARD
TZOFFSETFROM:+0100
TZOFFSETTO:+0000
TZNAME:GMT
DTSTART:20251026T010000
END:STANDARD
END:VTIMEZONE
BEGIN:VEVENT
DTSTART;VALUE=DATE:20240716
DTEND;VALUE=DATE:20240721
DTSTAMP:20260424T174821
CREATED:20230926T185003Z
LAST-MODIFIED:20240211T124819Z
UID:3832-1721088000-1721519999@www.nnhs.org.uk
SUMMARY:Holiday to RHS Bridgewater & Tatton Park Flower Show
DESCRIPTION:Our holiday with Avanti Coach Travel in 2024 will include visits to RHS Bridgewater and RHS Flower Show Tatton Park. \nThe full itinerary\, timings  and costs have been sent to those booked on the holiday. \nWe will be staying at the Best Western Hotel Frodsham\, four nights dinner\, bed and breakfast. \nMembers and affiliated society members only.  This holiday is fully booked and has a waiting list. \n 
URL:https://www.nnhs.org.uk/event/holiday-to-rhs-bridgewater-tatton-park-flower-show/
CATEGORIES:Holiday
ATTACH;FMTTYPE=image/jpeg:https://www.nnhs.org.uk/wp-content/uploads/2023/09/Bridgewater-1.jpg
ORGANIZER;CN="Norfolk & Norwich Horticultural Society":MAILTO:secretary@nnhs.org.uk
END:VEVENT
END:VCALENDAR