BEGIN:VCALENDAR
VERSION:2.0
PRODID:-//Norfolk and Norwich Horticultural Society - ECPv6.15.17.1//NONSGML v1.0//EN
CALSCALE:GREGORIAN
METHOD:PUBLISH
X-WR-CALNAME:Norfolk and Norwich Horticultural Society
X-ORIGINAL-URL:https://www.nnhs.org.uk
X-WR-CALDESC:Events for Norfolk and Norwich Horticultural Society
REFRESH-INTERVAL;VALUE=DURATION:PT1H
X-Robots-Tag:noindex
X-PUBLISHED-TTL:PT1H
BEGIN:VTIMEZONE
TZID:Europe/London
BEGIN:DAYLIGHT
TZOFFSETFROM:+0000
TZOFFSETTO:+0100
TZNAME:BST
DTSTART:20250330T010000
END:DAYLIGHT
BEGIN:STANDARD
TZOFFSETFROM:+0100
TZOFFSETTO:+0000
TZNAME:GMT
DTSTART:20251026T010000
END:STANDARD
BEGIN:DAYLIGHT
TZOFFSETFROM:+0000
TZOFFSETTO:+0100
TZNAME:BST
DTSTART:20260329T010000
END:DAYLIGHT
BEGIN:STANDARD
TZOFFSETFROM:+0100
TZOFFSETTO:+0000
TZNAME:GMT
DTSTART:20261025T010000
END:STANDARD
BEGIN:DAYLIGHT
TZOFFSETFROM:+0000
TZOFFSETTO:+0100
TZNAME:BST
DTSTART:20270328T010000
END:DAYLIGHT
BEGIN:STANDARD
TZOFFSETFROM:+0100
TZOFFSETTO:+0000
TZNAME:GMT
DTSTART:20271031T010000
END:STANDARD
END:VTIMEZONE
BEGIN:VEVENT
DTSTART;TZID=Europe/London:20260518T080000
DTEND;TZID=Europe/London:20260522T193000
DTSTAMP:20260420T160735
CREATED:20250524T205141Z
LAST-MODIFIED:20260205T100533Z
UID:6117-1779091200-1779478200@www.nnhs.org.uk
SUMMARY:Norfolk & Norwich Horticultural Society Holiday to Shropshire
DESCRIPTION:We have a five day holiday with four nights dinner\, bed and breakfast at the Mercure Telford Centre hotel. \nMembers are booked for most rooms.  Cost £555 per person sharing a twin/double room and £635 for single occupancy of a twin/double room (limited availability). \nAffiliated Society Members: one twin/double room available\, cost £575 per person. \nDeparture from Jubilee Hall East Tuddenham. \nItinerary: \nMonday 18 May 2026: depart from Jubilee Hall East Tuddenham at 8am\, comfort stop on route and arrive at National Garden Scheme supporter Barraca for a private visit and light lunch.  Journey on to our hotel. \nTuesday 19 May 2026: Visit to Hillview Hardy Plants at 10am then on to Ashwood Nurseries  for 12 noon\, including 2pm tour of John's Garden. \nWednesday 20 May 2026: 11am visit to Hodnet Hall Gardens. \nThursday 21 May 2026: Morning & lunchtime visit to Shrewsbury\, free time.  Afternoon visit to Wildegoose Nursery. \nFriday 22 May 2026: depart from our hotel and arrive at Middleton Hall & Gardens at 10.30.  Leave at 2.30pm for the journey home\, comfort stop on the way before arrival back at Jubilee Hall East Tuddenham.
URL:https://www.nnhs.org.uk/event/norfolk-norwich-horticultural-society-holiday-to-shropshire/
LOCATION:Mercure Telford Centre Hotel
CATEGORIES:Holiday
ATTACH;FMTTYPE=image/jpeg:https://www.nnhs.org.uk/wp-content/uploads/2024/08/Gardening-for-everyone-optimise-300x212-2.jpg
ORGANIZER;CN="Norfolk & Norwich Horticultural Society":MAILTO:secretary@nnhs.org.uk
END:VEVENT
BEGIN:VEVENT
DTSTART;TZID=Europe/London:20260916T000000
DTEND;TZID=Europe/London:20260919T235959
DTSTAMP:20260420T160735
CREATED:20250122T114758Z
LAST-MODIFIED:20260219T103352Z
UID:5622-1789516800-1789862399@www.nnhs.org.uk
SUMMARY:NNHS Holiday to Harrogate Autumn Flower Show
DESCRIPTION:We have a three night/four day holiday for our members\, making a return visit to the Harrogate Autumn Flower Show at Newby Hall & Gardens\, which will take place from 18-20 September 2026.    Three nights dinner\, bed & breakfast accommodation has been reserved at The Parsonage Hotel\, Escrick near York by our coach company Avanti.  Cost for members £460 per person sharing a twin/double room (£480 per person for affiliated society members) and £520 for a single person occupying a twin/double room (members only\, limited availability). £10 discount for National Trust members. \nItinerary: \nDepart from East Tuddenham Village Hall at 8am\, parking available.  Comfort stops on route to our first garden. \nWednesday 16 September 2026\, 2pm arrival: Stillingfleet Lodge Gardens \nThursday 17 September 2026\, 11am arrival: full day at RHS Garden Harlow Carr \nFriday 18 September 2026 - full day at Harrogate Autumn Flower Show \nSaturday 19 September 2026 - depart from our hotel.  Visit to National Trust Nostell\, arriving at 10.30 and departing at 2pm. One comfort stop before arrival back at East Tuddenham Village Hall at approximately 6pm.
URL:https://www.nnhs.org.uk/event/nnhs-holiday-to-harrogate-autumn-flower-show/
LOCATION:Harrogate Autumn Flower Show
CATEGORIES:Flower & Produce Show,Garden Visit,Holiday,Meetings
ATTACH;FMTTYPE=image/jpeg:https://www.nnhs.org.uk/wp-content/uploads/2025/01/Newby-Hall-long-border-scaled.jpg
ORGANIZER;CN="Norfolk & Norwich Horticultural Society":MAILTO:secretary@nnhs.org.uk
END:VEVENT
END:VCALENDAR