BEGIN:VCALENDAR
VERSION:2.0
PRODID:-//Norfolk and Norwich Horticultural Society - ECPv6.15.20//NONSGML v1.0//EN
CALSCALE:GREGORIAN
METHOD:PUBLISH
X-WR-CALNAME:Norfolk and Norwich Horticultural Society
X-ORIGINAL-URL:https://www.nnhs.org.uk
X-WR-CALDESC:Events for Norfolk and Norwich Horticultural Society
REFRESH-INTERVAL;VALUE=DURATION:PT1H
X-Robots-Tag:noindex
X-PUBLISHED-TTL:PT1H
BEGIN:VTIMEZONE
TZID:Europe/London
BEGIN:DAYLIGHT
TZOFFSETFROM:+0000
TZOFFSETTO:+0100
TZNAME:BST
DTSTART:20240331T010000
END:DAYLIGHT
BEGIN:STANDARD
TZOFFSETFROM:+0100
TZOFFSETTO:+0000
TZNAME:GMT
DTSTART:20241027T010000
END:STANDARD
BEGIN:DAYLIGHT
TZOFFSETFROM:+0000
TZOFFSETTO:+0100
TZNAME:BST
DTSTART:20250330T010000
END:DAYLIGHT
BEGIN:STANDARD
TZOFFSETFROM:+0100
TZOFFSETTO:+0000
TZNAME:GMT
DTSTART:20251026T010000
END:STANDARD
BEGIN:DAYLIGHT
TZOFFSETFROM:+0000
TZOFFSETTO:+0100
TZNAME:BST
DTSTART:20260329T010000
END:DAYLIGHT
BEGIN:STANDARD
TZOFFSETFROM:+0100
TZOFFSETTO:+0000
TZNAME:GMT
DTSTART:20261025T010000
END:STANDARD
END:VTIMEZONE
BEGIN:VEVENT
DTSTART;TZID=Europe/London:20250312T193000
DTEND;TZID=Europe/London:20250312T210000
DTSTAMP:20260424T202935
CREATED:20250209T190231Z
LAST-MODIFIED:20250209T190231Z
UID:5709-1741807800-1741813200@www.nnhs.org.uk
SUMMARY:March meeting of the Blofield & District Gardening Club
DESCRIPTION:Our next meeting is on Wednesday evening\, 12th March (7:30 pm) at The Margaret Harker Hall in Blofield.  The full programme of talks for the year will be disclosed plus the schedule for the Club’s Summer Show in July.  Light refreshments plus a gardening demo and a quiz will be offered after the meeting.  This meeting is free and open to all – do please come along to see what is being planned. \nOn Wednesday evening\, 9th April (7:30 pm) we are very pleased to welcome Simon White from Peter Beales Roses\, Attleborough\, to speak about “Highlights of Chelsea and Hampton Court Shows”.  The company has very successfully competed at these important events\, and Simon will discuss and illustrate their award-winning entries.  All very welcome to the talk – members free\, visitors £2:50 which includes light refreshment.  Queries to (01603) 715804.  Website: www.blofieldgardeningclub.org.uk
URL:https://www.nnhs.org.uk/event/march-meeting-of-the-blofield-district-gardening-club/
LOCATION:The Margaret Harker Hall\, Yarmouth Rd\, Blofield\, The Margaret Harker Hall\, Yarmouth Road\, Blofield\, NR134LE\, United Kingdom
CATEGORIES:Annual General Meeting
ATTACH;FMTTYPE=image/jpeg:https://www.nnhs.org.uk/wp-content/uploads/2025/02/P1080766.jpg
ORGANIZER;CN="Blofield & District Gardening Club":MAILTO:Blofieldgardeningclub@outlook.com
END:VEVENT
BEGIN:VEVENT
DTSTART;TZID=Europe/London:20250312T193000
DTEND;TZID=Europe/London:20250312T213000
DTSTAMP:20260424T202935
CREATED:20250110T102456Z
LAST-MODIFIED:20250110T102456Z
UID:5572-1741807800-1741815000@www.nnhs.org.uk
SUMMARY:Loddon and District Horticultural Society
DESCRIPTION:Talk on Costa Rica by Pat Alker.  International traveller Pat comes along to show us the range of flora and fauna in Costa Rica\, including Jaguars\, Monkeys and Birds\, and of course all the Orchids that grow there.  Visitors £2 with refreshments and raffle.
URL:https://www.nnhs.org.uk/event/loddon-and-district-horticultural-society-11/
LOCATION:Loddon and Chedgrave Jubilee Hall\, Jubilee Hall\, George Lane\, Loddon\, Norwich\, NR14 6NB
CATEGORIES:Meetings
ATTACH;FMTTYPE=image/jpeg:https://www.nnhs.org.uk/wp-content/uploads/2025/01/2025-03-scaled.jpg
END:VEVENT
BEGIN:VEVENT
DTSTART;TZID=Europe/London:20250327T143000
DTEND;TZID=Europe/London:20250327T163000
DTSTAMP:20260424T202935
CREATED:20250313T103635Z
LAST-MODIFIED:20250313T103635Z
UID:5833-1743085800-1743093000@www.nnhs.org.uk
SUMMARY:Companion Planting for a Balanced Garden
DESCRIPTION:At our March meeting well known speaker Dr Ian Bedford\, formerly of the John Innes Institute\, will explain the concepts of Companion Planting and whether we can expect to see results when it's used. Besides using plants to help other plants\, many plants are also reported to have properties that can either attract or repel bugs. The talk details some of them and how they can be used in our gardens to create a natural balance system for attracting nature and keeping the pests under control.
URL:https://www.nnhs.org.uk/event/companion-planting-for-a-balanced-garden/
LOCATION:Holme Hale Pavilion\, Holme Hale Pavillion\, School Road\,\, Holme Hale\, IP25 7DP
CATEGORIES:Affiliated Society Meeting
ATTACH;FMTTYPE=image/png:https://www.nnhs.org.uk/wp-content/uploads/2025/03/Garden-Club-Speaker-Flyer-March-2025-no-hearts.png
ORGANIZER;CN="Ashill%2C Holme Hale & District Garden Club":MAILTO:ashillholmehalegardenclub@gmail.com
END:VEVENT
END:VCALENDAR