BEGIN:VCALENDAR
VERSION:2.0
PRODID:-//Norfolk and Norwich Horticultural Society - ECPv6.15.20//NONSGML v1.0//EN
CALSCALE:GREGORIAN
METHOD:PUBLISH
X-ORIGINAL-URL:https://www.nnhs.org.uk
X-WR-CALDESC:Events for Norfolk and Norwich Horticultural Society
REFRESH-INTERVAL;VALUE=DURATION:PT1H
X-Robots-Tag:noindex
X-PUBLISHED-TTL:PT1H
BEGIN:VTIMEZONE
TZID:Europe/London
BEGIN:DAYLIGHT
TZOFFSETFROM:+0000
TZOFFSETTO:+0100
TZNAME:BST
DTSTART:20240331T010000
END:DAYLIGHT
BEGIN:STANDARD
TZOFFSETFROM:+0100
TZOFFSETTO:+0000
TZNAME:GMT
DTSTART:20241027T010000
END:STANDARD
BEGIN:DAYLIGHT
TZOFFSETFROM:+0000
TZOFFSETTO:+0100
TZNAME:BST
DTSTART:20250330T010000
END:DAYLIGHT
BEGIN:STANDARD
TZOFFSETFROM:+0100
TZOFFSETTO:+0000
TZNAME:GMT
DTSTART:20251026T010000
END:STANDARD
BEGIN:DAYLIGHT
TZOFFSETFROM:+0000
TZOFFSETTO:+0100
TZNAME:BST
DTSTART:20260329T010000
END:DAYLIGHT
BEGIN:STANDARD
TZOFFSETFROM:+0100
TZOFFSETTO:+0000
TZNAME:GMT
DTSTART:20261025T010000
END:STANDARD
END:VTIMEZONE
BEGIN:VEVENT
DTSTART;TZID=Europe/London:20250611T193000
DTEND;TZID=Europe/London:20250611T210000
DTSTAMP:20260424T165432
CREATED:20250325T155938Z
LAST-MODIFIED:20250325T155938Z
UID:5869-1749670200-1749675600@www.nnhs.org.uk
SUMMARY:Flower arranging using flowers and foliage from the garden with Jenni Baker
DESCRIPTION:Come along to hear Jenni Baker talk to the Blofield & District Gardening Club about Flower arranging using Flowers and Foliage from the Garden .  Meetings are held at The Margaret Harker Hall\, Yarmouth Road\, Blofield.  The members' competition is "a posy of garden flowers".  Guests welcome £2:50.
URL:https://www.nnhs.org.uk/event/flower-arranging-using-flowers-and-foliage-from-the-garden-with-jenni-baker/
LOCATION:The Margaret Harker Hall\, Yarmouth Rd\, Blofield\, The Margaret Harker Hall\, Yarmouth Road\, Blofield\, NR134LE\, United Kingdom
CATEGORIES:Affiliated Society Meeting,Flower Arranging Demonstration
ATTACH;FMTTYPE=image/jpeg:https://www.nnhs.org.uk/wp-content/uploads/2025/03/P1060395.jpg
ORGANIZER;CN="Blofield & District Gardening Club":MAILTO:Blofieldgardeningclub@outlook.com
END:VEVENT
BEGIN:VEVENT
DTSTART;TZID=Europe/London:20250626T143000
DTEND;TZID=Europe/London:20250626T163000
DTSTAMP:20260424T165432
CREATED:20250604T175804Z
LAST-MODIFIED:20250604T175804Z
UID:6142-1750948200-1750955400@www.nnhs.org.uk
SUMMARY:The Effect of Climate Change on our Gardens - Chris Bell
DESCRIPTION:Well-known Look East weather forecaster and presenter Chris Bell will present us with the latest evidence on how climate change is likely to influence our future gardening practices. Chris is chief communication officer of Weatherquest based at University of East Anglia and also a lecturer in meteorology at UEA. Chris\, who is an entertaining and engaging speaker\, will inform us in clear terms how climate change will likely affect our gardens and how we might work with nature to mitigate the effects so our gardens continue to evolve in a changing climate.
URL:https://www.nnhs.org.uk/event/the-effect-of-climate-change-on-our-gardens-chris-bell/
LOCATION:Holme Hale Pavilion\, Holme Hale Pavillion\, School Road\,\, Holme Hale\, IP25 7DP
CATEGORIES:Affiliated Society Meeting
ATTACH;FMTTYPE=image/png:https://www.nnhs.org.uk/wp-content/uploads/2025/06/Garden-Club-Speaker-Flyer-June-26th-2025.png
ORGANIZER;CN="Ashill%2C Holme Hale & District Garden Club":MAILTO:ashillholmehalegardenclub@gmail.com
END:VEVENT
END:VCALENDAR