BEGIN:VCALENDAR
VERSION:2.0
PRODID:-//Norfolk and Norwich Horticultural Society - ECPv6.15.20//NONSGML v1.0//EN
CALSCALE:GREGORIAN
METHOD:PUBLISH
X-WR-CALNAME:Norfolk and Norwich Horticultural Society
X-ORIGINAL-URL:https://www.nnhs.org.uk
X-WR-CALDESC:Events for Norfolk and Norwich Horticultural Society
REFRESH-INTERVAL;VALUE=DURATION:PT1H
X-Robots-Tag:noindex
X-PUBLISHED-TTL:PT1H
BEGIN:VTIMEZONE
TZID:Europe/London
BEGIN:DAYLIGHT
TZOFFSETFROM:+0000
TZOFFSETTO:+0100
TZNAME:BST
DTSTART:20240331T010000
END:DAYLIGHT
BEGIN:STANDARD
TZOFFSETFROM:+0100
TZOFFSETTO:+0000
TZNAME:GMT
DTSTART:20241027T010000
END:STANDARD
BEGIN:DAYLIGHT
TZOFFSETFROM:+0000
TZOFFSETTO:+0100
TZNAME:BST
DTSTART:20250330T010000
END:DAYLIGHT
BEGIN:STANDARD
TZOFFSETFROM:+0100
TZOFFSETTO:+0000
TZNAME:GMT
DTSTART:20251026T010000
END:STANDARD
BEGIN:DAYLIGHT
TZOFFSETFROM:+0000
TZOFFSETTO:+0100
TZNAME:BST
DTSTART:20260329T010000
END:DAYLIGHT
BEGIN:STANDARD
TZOFFSETFROM:+0100
TZOFFSETTO:+0000
TZNAME:GMT
DTSTART:20261025T010000
END:STANDARD
END:VTIMEZONE
BEGIN:VEVENT
DTSTART;TZID=Europe/London:20251112T193000
DTEND;TZID=Europe/London:20251112T210000
DTSTAMP:20260424T104842
CREATED:20250713T070947Z
LAST-MODIFIED:20250713T070947Z
UID:6222-1762975800-1762981200@www.nnhs.org.uk
SUMMARY:"Looking after Bees" - talk by local beekeeper Lynda Hunt
DESCRIPTION:All invited to hear beekeeper Lynda Hunt describe the intricacies and benefits of keeping bees.  Guests very welcome - £2:50.  Members' competition: "A Christmas meal for the Birds!" \nThere are no club meetings in December\, January nor February.  The next meeting will be the Club's AGM - Wednesday evening 11th March 2026.
URL:https://www.nnhs.org.uk/event/looking-after-bees-talk-by-local-beekeeper-lynda-hunt/
LOCATION:The Margaret Harker Hall\, Yarmouth Rd\, Blofield\, The Margaret Harker Hall\, Yarmouth Road\, Blofield\, NR134LE\, United Kingdom
CATEGORIES:Affiliated Society Meeting
ATTACH;FMTTYPE=image/jpeg:https://www.nnhs.org.uk/wp-content/uploads/2025/07/Honey-bee.jpg
ORGANIZER;CN="Blofield & District Gardening Club":MAILTO:Blofieldgardeningclub@outlook.com
END:VEVENT
BEGIN:VEVENT
DTSTART;TZID=Europe/London:20251120T143000
DTEND;TZID=Europe/London:20251120T163000
DTSTAMP:20260424T104842
CREATED:20251110T104820Z
LAST-MODIFIED:20251110T104820Z
UID:6467-1763649000-1763656200@www.nnhs.org.uk
SUMMARY:Hydrangeas and how to look after them - By Graham Watts
DESCRIPTION:Graham Watts\, of Dale Farm in Dereham grows a wonderful array of Hydrangeas that adorn his self-made beautiful 2-acre garden. Graham\, and his partner Sally\, have over 130 different species of Hydrangeas. In propagating\, growing and caring for hydrangeas over a lifetime of gardening\, there is not much Graham does not know about how to look after these gorgeous plants. So if you want to be introduced to some new varieties or learn how to look after your hydrangeas better\, then come along and learn from an expert.
URL:https://www.nnhs.org.uk/event/hydrangeas-and-how-to-look-after-them-by-graham-watts/
LOCATION:Holme Hale Pavilion\, Holme Hale Pavillion\, School Road\,\, Holme Hale\, IP25 7DP
CATEGORIES:Affiliated Society Meeting
ATTACH;FMTTYPE=image/png:https://www.nnhs.org.uk/wp-content/uploads/2025/11/Garden-Club-Speaker-Flyer-November-20th-Hydrangeas.png
ORGANIZER;CN="Ashill%2C Holme Hale & District Garden Club":MAILTO:ashillholmehalegardenclub@gmail.com
END:VEVENT
BEGIN:VEVENT
DTSTART;TZID=Europe/London:20251129T103000
DTEND;TZID=Europe/London:20251129T153000
DTSTAMP:20260424T104842
CREATED:20250211T080724Z
LAST-MODIFIED:20250211T080836Z
UID:5721-1764412200-1764430200@www.nnhs.org.uk
SUMMARY:Annual General Meeting - Norfolk & Norwich Horticultural Society
DESCRIPTION:All our members and affiliates are invited to attend our Annual General Meeting.  This will include a review of the year\, election of trustees and non-committee posts for the following year and presentation of All Shows awards for 2025.  The AGM will start at 11am\, with tea & coffee available from 10.30am. \nThe AGM will be followed by an opportunity to take part in a social event with buffet and quiz.  Tickets for this cost £10 per person and can be booked below.
URL:https://www.nnhs.org.uk/event/annual-general-meeting-norfolk-norwich-horticultural-society/
LOCATION:East Tuddenham Jubilee Hall\, East Tuddenham Jubilee Hall\, Mattishall Road\, East Tuddenham\, Norfolk\, NR20 3LR\, United Kingdom
CATEGORIES:Annual General Meeting,Meetings
ATTACH;FMTTYPE=image/jpeg:https://www.nnhs.org.uk/wp-content/uploads/2024/08/Gardening-for-everyone-optimise-300x212-1.jpg
ORGANIZER;CN="Norfolk & Norwich Horticultural Society":MAILTO:secretary@nnhs.org.uk
END:VEVENT
END:VCALENDAR