BEGIN:VCALENDAR
VERSION:2.0
PRODID:-//Norfolk and Norwich Horticultural Society - ECPv6.15.17.1//NONSGML v1.0//EN
CALSCALE:GREGORIAN
METHOD:PUBLISH
X-WR-CALNAME:Norfolk and Norwich Horticultural Society
X-ORIGINAL-URL:https://www.nnhs.org.uk
X-WR-CALDESC:Events for Norfolk and Norwich Horticultural Society
REFRESH-INTERVAL;VALUE=DURATION:PT1H
X-Robots-Tag:noindex
X-PUBLISHED-TTL:PT1H
BEGIN:VTIMEZONE
TZID:Europe/London
BEGIN:DAYLIGHT
TZOFFSETFROM:+0000
TZOFFSETTO:+0100
TZNAME:BST
DTSTART:20250330T010000
END:DAYLIGHT
BEGIN:STANDARD
TZOFFSETFROM:+0100
TZOFFSETTO:+0000
TZNAME:GMT
DTSTART:20251026T010000
END:STANDARD
BEGIN:DAYLIGHT
TZOFFSETFROM:+0000
TZOFFSETTO:+0100
TZNAME:BST
DTSTART:20260329T010000
END:DAYLIGHT
BEGIN:STANDARD
TZOFFSETFROM:+0100
TZOFFSETTO:+0000
TZNAME:GMT
DTSTART:20261025T010000
END:STANDARD
BEGIN:DAYLIGHT
TZOFFSETFROM:+0000
TZOFFSETTO:+0100
TZNAME:BST
DTSTART:20270328T010000
END:DAYLIGHT
BEGIN:STANDARD
TZOFFSETFROM:+0100
TZOFFSETTO:+0000
TZNAME:GMT
DTSTART:20271031T010000
END:STANDARD
END:VTIMEZONE
BEGIN:VEVENT
DTSTART;TZID=Europe/London:20260310T070000
DTEND;TZID=Europe/London:20260310T210000
DTSTAMP:20260420T201543
CREATED:20260207T102711Z
LAST-MODIFIED:20260207T102711Z
UID:6870-1773126000-1773176400@www.nnhs.org.uk
SUMMARY:The history of Beth Chatto's Garden
DESCRIPTION:Limited tickets now available ............New members and guests always welcome. \nFree parking and refreshments .........Filby Gardening Club members Free\, Visitors and guests £5 .
URL:https://www.nnhs.org.uk/event/the-history-of-beth-chattos-garden/
LOCATION:Filby Village Hall\, Filby Village Hall\, Main Road\, Filby\, Norfolk\, NR29 3HN\, United Kingdom
CATEGORIES:Affiliated Society Meeting
ATTACH;FMTTYPE=image/png:https://www.nnhs.org.uk/wp-content/uploads/2026/02/Green-and-Cream-Simple-Gardening-Service-Poster-1.png
END:VEVENT
BEGIN:VEVENT
DTSTART;TZID=Europe/London:20260311T193000
DTEND;TZID=Europe/London:20260311T210000
DTSTAMP:20260420T201543
CREATED:20260126T083332Z
LAST-MODIFIED:20260126T083332Z
UID:6794-1773257400-1773262800@www.nnhs.org.uk
SUMMARY:Blofield & District Gardening Club’s Annual General Meeting and social
DESCRIPTION:All very welcome to come along to the Club's AGM\, followed by a free buffet and probably a quiz!  No entry fee.  Information will be given about speakers and topics for meetings during the year\, plus how the Annual Summer Show schedule has been updated.  A very sociable evening.
URL:https://www.nnhs.org.uk/event/blofield-district-gardening-clubs-annual-general-meeting-and-social/
LOCATION:The Margaret Harker Hall\, Yarmouth Rd\, Blofield\, The Margaret Harker Hall\, Yarmouth Road\, Blofield\, NR134LE\, United Kingdom
CATEGORIES:Affiliated Society Meeting
ATTACH;FMTTYPE=image/jpeg:https://www.nnhs.org.uk/wp-content/uploads/2026/01/P1050659.jpg
ORGANIZER;CN="Blofield & District Gardening Club":MAILTO:Blofieldgardeningclub@outlook.com
END:VEVENT
BEGIN:VEVENT
DTSTART;TZID=Europe/London:20260311T193000
DTEND;TZID=Europe/London:20260311T213000
DTSTAMP:20260420T201543
CREATED:20260217T191020Z
LAST-MODIFIED:20260217T191020Z
UID:6958-1773257400-1773264600@www.nnhs.org.uk
SUMMARY:Peonies by Sarah Hammond
DESCRIPTION:A talk by Sarah Hammond from English Peonies near North Walsham who is a florist and grower.  She discusses everything about these wonderful early-summer flowers.  Refreshments and raffle.
URL:https://www.nnhs.org.uk/event/peonies-by-sarah-hammond/
LOCATION:Loddon and Chedgrave Jubilee Hall\, Jubilee Hall\, George Lane\, Loddon\, Norwich\, NR14 6NB
CATEGORIES:Affiliated Society Meeting
ATTACH;FMTTYPE=image/jpeg:https://www.nnhs.org.uk/wp-content/uploads/2026/02/2026-03-scaled.jpg
END:VEVENT
BEGIN:VEVENT
DTSTART;TZID=Europe/London:20260314T140000
DTEND;TZID=Europe/London:20260314T160000
DTSTAMP:20260420T201543
CREATED:20260209T120346Z
LAST-MODIFIED:20260209T120346Z
UID:6889-1773496800-1773504000@www.nnhs.org.uk
SUMMARY:New\, rare and unusual perennials - Tim Fuller\, The Plantsman's Preference
DESCRIPTION:Tim will talk about some of the newer introductions and their place in the garden. He will look at new versions of cottage garden favourites as well as the rare and obscure species not well known\, giving ideas on planting combinations and on choosing the right plants for your garden.
URL:https://www.nnhs.org.uk/event/new-rare-and-unusual-perennials-tim-fuller-the-plantsmans-preference/
LOCATION:Roydon Village Hall\, Roydon Village Hall\, 3 High Road\, Roydon\, Diss\, IP22 5RB
CATEGORIES:Affiliated Society Meeting
ATTACH;FMTTYPE=image/jpeg:https://www.nnhs.org.uk/wp-content/uploads/2026/02/Tim-Fuller.jpeg
END:VEVENT
BEGIN:VEVENT
DTSTART;TZID=Europe/London:20260318T193000
DTEND;TZID=Europe/London:20260318T210000
DTSTAMP:20260420T201543
CREATED:20260123T173208Z
LAST-MODIFIED:20260123T173208Z
UID:6785-1773862200-1773867600@www.nnhs.org.uk
SUMMARY:Wildflowers in the Garden - friend or foe.
DESCRIPTION:Simon Harrup owns and manages Natural Surroundings near Holt and is the author of several books. \nHe will be talking to us about the use of wildflowers in our gardens.
URL:https://www.nnhs.org.uk/event/wildflowers-in-the-garden-friend-or-foe/
LOCATION:Costessey Centre\, Longwater Lane\, The Costessey Centre\, Longwater Lane\, Norwich\, NR8 5AH\, United Kingdom
CATEGORIES:Affiliated Society Meeting
ATTACH;FMTTYPE=image/jpeg:https://www.nnhs.org.uk/wp-content/uploads/2026/01/IMG_0486-scaled.jpeg
END:VEVENT
BEGIN:VEVENT
DTSTART;TZID=Europe/London:20260321T140000
DTEND;TZID=Europe/London:20260321T163000
DTSTAMP:20260420T201543
CREATED:20250807T093719Z
LAST-MODIFIED:20260122T150836Z
UID:6307-1774101600-1774110600@www.nnhs.org.uk
SUMMARY:NNHS Affiliated Society Meeting
DESCRIPTION:An opportunity for representatives from our affiliated societies to meet and discuss common issues and solutions. \nGuest speaker at 2pm \nTea & coffee available from 1.30pm.  Meeting from 2-4.30pm.
URL:https://www.nnhs.org.uk/event/nnhs-affiliated-society-meeting-3/
LOCATION:The Costessey Centre\, The Costessey Centre\, Longwater Lane\, Costessey\, Norwich\, Norfolk\, NR8 5AH
CATEGORIES:Affiliated Society Meeting
ATTACH;FMTTYPE=image/jpeg:https://www.nnhs.org.uk/wp-content/uploads/2024/08/Gardening-for-everyone-optimise-300x212-2.jpg
ORGANIZER;CN="Norfolk & Norwich Horticultural Society":MAILTO:secretary@nnhs.org.uk
END:VEVENT
END:VCALENDAR