BEGIN:VCALENDAR
VERSION:2.0
PRODID:-//Norfolk and Norwich Horticultural Society - ECPv6.15.17.1//NONSGML v1.0//EN
CALSCALE:GREGORIAN
METHOD:PUBLISH
X-WR-CALNAME:Norfolk and Norwich Horticultural Society
X-ORIGINAL-URL:https://www.nnhs.org.uk
X-WR-CALDESC:Events for Norfolk and Norwich Horticultural Society
REFRESH-INTERVAL;VALUE=DURATION:PT1H
X-Robots-Tag:noindex
X-PUBLISHED-TTL:PT1H
BEGIN:VTIMEZONE
TZID:Europe/London
BEGIN:DAYLIGHT
TZOFFSETFROM:+0000
TZOFFSETTO:+0100
TZNAME:BST
DTSTART:20250330T010000
END:DAYLIGHT
BEGIN:STANDARD
TZOFFSETFROM:+0100
TZOFFSETTO:+0000
TZNAME:GMT
DTSTART:20251026T010000
END:STANDARD
BEGIN:DAYLIGHT
TZOFFSETFROM:+0000
TZOFFSETTO:+0100
TZNAME:BST
DTSTART:20260329T010000
END:DAYLIGHT
BEGIN:STANDARD
TZOFFSETFROM:+0100
TZOFFSETTO:+0000
TZNAME:GMT
DTSTART:20261025T010000
END:STANDARD
BEGIN:DAYLIGHT
TZOFFSETFROM:+0000
TZOFFSETTO:+0100
TZNAME:BST
DTSTART:20270328T010000
END:DAYLIGHT
BEGIN:STANDARD
TZOFFSETFROM:+0100
TZOFFSETTO:+0000
TZNAME:GMT
DTSTART:20271031T010000
END:STANDARD
END:VTIMEZONE
BEGIN:VEVENT
DTSTART;TZID=Europe/London:20260513T193000
DTEND;TZID=Europe/London:20260513T213000
DTSTAMP:20260420T201543
CREATED:20260416T072733Z
LAST-MODIFIED:20260416T072733Z
UID:7278-1778700600-1778707800@www.nnhs.org.uk
SUMMARY:Herbs and Their Uses by Paula Stone
DESCRIPTION:Paula Stone is a highly qualified Medical Herbalist with 20 plus years experience.  Herbalism is one of the oldest forms of medicine.  Containing a range of biochemistry and nutrients\, herbs naturally work with your body's organs and processes.  Paula teaches us about herbs for a Spring detox\, Summer foraging\, Autumn stress support\, or Winter immune health.  Refreshments available and raffle held.
URL:https://www.nnhs.org.uk/event/herbs-and-their-uses-by-paula-stone/
LOCATION:Loddon and Chedgrave Jubilee Hall\, Jubilee Hall\, George Lane\, Loddon\, Norwich\, NR14 6NB
CATEGORIES:Affiliated Society Meeting
ATTACH;FMTTYPE=image/jpeg:https://www.nnhs.org.uk/wp-content/uploads/2026/04/2026-05-scaled.jpg
END:VEVENT
BEGIN:VEVENT
DTSTART;TZID=Europe/London:20260523T140000
DTEND;TZID=Europe/London:20260523T170000
DTSTAMP:20260420T201543
CREATED:20260408T105840Z
LAST-MODIFIED:20260408T105840Z
UID:7179-1779544800-1779555600@www.nnhs.org.uk
SUMMARY:AGS Norfolk Group talk by Tim Ingram on Gardening on Rocks
DESCRIPTION:Tim's talk is about all the many and varied plants\, especially alpines\, that grow well in a rock garden. He has a nursery in Faversham\, Kent called Copton Ash which focuses on Alpines & perennials for dryer & woodland gardens. Tim’s interest in plants began in his teenage years when he had a raised rock garden. Later while working in plant hormones he spent 6 months in Tasmania and took the opportunity to explore the wild. He has also\nwritten a book on Umbellifers for HPS. He grows a lot of Alpines in his garden in Kent.
URL:https://www.nnhs.org.uk/event/ags-norfolk-group-talk-by-tim-ingram-on-gardening-on-rocks/
LOCATION:Hethersett Village Hall\, Hethersett Village Hall\, Back Lane\, Hethersett\, Norwich\, Norfolk\, NR9 3JJ\, United Kingdom
CATEGORIES:Affiliated Society Meeting
ATTACH;FMTTYPE=image/jpeg:https://www.nnhs.org.uk/wp-content/uploads/2026/04/Tim-Ingram.jpeg
ORGANIZER;CN="Alpine Garden Society%2C Norfolk Group":MAILTO:dianenblyth@gmail.com
END:VEVENT
END:VCALENDAR