BEGIN:VCALENDAR
VERSION:2.0
PRODID:-//Norfolk and Norwich Horticultural Society - ECPv6.15.20//NONSGML v1.0//EN
CALSCALE:GREGORIAN
METHOD:PUBLISH
X-ORIGINAL-URL:https://www.nnhs.org.uk
X-WR-CALDESC:Events for Norfolk and Norwich Horticultural Society
REFRESH-INTERVAL;VALUE=DURATION:PT1H
X-Robots-Tag:noindex
X-PUBLISHED-TTL:PT1H
BEGIN:VTIMEZONE
TZID:Europe/London
BEGIN:DAYLIGHT
TZOFFSETFROM:+0000
TZOFFSETTO:+0100
TZNAME:BST
DTSTART:20250330T010000
END:DAYLIGHT
BEGIN:STANDARD
TZOFFSETFROM:+0100
TZOFFSETTO:+0000
TZNAME:GMT
DTSTART:20251026T010000
END:STANDARD
BEGIN:DAYLIGHT
TZOFFSETFROM:+0000
TZOFFSETTO:+0100
TZNAME:BST
DTSTART:20260329T010000
END:DAYLIGHT
BEGIN:STANDARD
TZOFFSETFROM:+0100
TZOFFSETTO:+0000
TZNAME:GMT
DTSTART:20261025T010000
END:STANDARD
BEGIN:DAYLIGHT
TZOFFSETFROM:+0000
TZOFFSETTO:+0100
TZNAME:BST
DTSTART:20270328T010000
END:DAYLIGHT
BEGIN:STANDARD
TZOFFSETFROM:+0100
TZOFFSETTO:+0000
TZNAME:GMT
DTSTART:20271031T010000
END:STANDARD
END:VTIMEZONE
BEGIN:VEVENT
DTSTART;TZID=Europe/London:20261205T110000
DTEND;TZID=Europe/London:20261205T130000
DTSTAMP:20260424T115954
CREATED:20251126T165831Z
LAST-MODIFIED:20260215T100239Z
UID:6588-1796468400-1796475600@www.nnhs.org.uk
SUMMARY:Annual General Meeting
DESCRIPTION:We will vote in our trustees and committee for 2026/27 and present our All Shows awards for 2026. \nAll members and affiliated society representatives are welcome to attend.  Tea\, coffee and biscuits from 10.30am\, AGM starts at 11am and finishes by 1pm. \nThe AGM will be followed by a buffet and social event from 1-3.30pm\, £10 per person\, booking now.
URL:https://www.nnhs.org.uk/event/annual-general-meeting/
LOCATION:East Tuddenham Jubilee Hall\, East Tuddenham Jubilee Hall\, Mattishall Road\, East Tuddenham\, Norfolk\, NR20 3LR\, United Kingdom
CATEGORIES:Annual General Meeting
ATTACH;FMTTYPE=image/jpeg:https://www.nnhs.org.uk/wp-content/uploads/2024/08/Gardening-for-everyone-optimise-300x212-2.jpg
ORGANIZER;CN="Norfolk & Norwich Horticultural Society":MAILTO:secretary@nnhs.org.uk
END:VEVENT
END:VCALENDAR