BEGIN:VCALENDAR
VERSION:2.0
PRODID:-//Norfolk and Norwich Horticultural Society - ECPv6.15.20//NONSGML v1.0//EN
CALSCALE:GREGORIAN
METHOD:PUBLISH
X-WR-CALNAME:Norfolk and Norwich Horticultural Society
X-ORIGINAL-URL:https://www.nnhs.org.uk
X-WR-CALDESC:Events for Norfolk and Norwich Horticultural Society
REFRESH-INTERVAL;VALUE=DURATION:PT1H
X-Robots-Tag:noindex
X-PUBLISHED-TTL:PT1H
BEGIN:VTIMEZONE
TZID:Europe/London
BEGIN:DAYLIGHT
TZOFFSETFROM:+0000
TZOFFSETTO:+0100
TZNAME:BST
DTSTART:20240331T010000
END:DAYLIGHT
BEGIN:STANDARD
TZOFFSETFROM:+0100
TZOFFSETTO:+0000
TZNAME:GMT
DTSTART:20241027T010000
END:STANDARD
BEGIN:DAYLIGHT
TZOFFSETFROM:+0000
TZOFFSETTO:+0100
TZNAME:BST
DTSTART:20250330T010000
END:DAYLIGHT
BEGIN:STANDARD
TZOFFSETFROM:+0100
TZOFFSETTO:+0000
TZNAME:GMT
DTSTART:20251026T010000
END:STANDARD
BEGIN:DAYLIGHT
TZOFFSETFROM:+0000
TZOFFSETTO:+0100
TZNAME:BST
DTSTART:20260329T010000
END:DAYLIGHT
BEGIN:STANDARD
TZOFFSETFROM:+0100
TZOFFSETTO:+0000
TZNAME:GMT
DTSTART:20261025T010000
END:STANDARD
END:VTIMEZONE
BEGIN:VEVENT
DTSTART;TZID=Europe/London:20250409T193000
DTEND;TZID=Europe/London:20250409T210000
DTSTAMP:20260423T102626
CREATED:20250209T190319Z
LAST-MODIFIED:20250209T190319Z
UID:5714-1744227000-1744232400@www.nnhs.org.uk
SUMMARY:April meeting of the Blofield & District Gardening Club
DESCRIPTION:On Wednesday evening\, 9th April (7:30 pm) we are very pleased to welcome Simon White from Peter Beales Roses\, Attleborough\, to speak about “Highlights of Chelsea and Hampton Court Shows”.  The company has very successfully competed at these important events\, and Simon will discuss and illustrate their award-winning entries.  All very welcome to the talk – members free\, visitors £2:50 which includes light refreshment.  Queries to (01603) 715804.  Website: www.blofieldgardeningclub.org.uk
URL:https://www.nnhs.org.uk/event/april-meeting-of-the-blofield-district-gardening-club/
LOCATION:The Margaret Harker Hall\, Yarmouth Rd\, Blofield\, The Margaret Harker Hall\, Yarmouth Road\, Blofield\, NR134LE\, United Kingdom
CATEGORIES:Social
ATTACH;FMTTYPE=image/jpeg:https://www.nnhs.org.uk/wp-content/uploads/2025/02/P1080764.jpg
ORGANIZER;CN="Blofield & District Gardening Club":MAILTO:Blofieldgardeningclub@outlook.com
END:VEVENT
END:VCALENDAR