BEGIN:VCALENDAR
VERSION:2.0
PRODID:-//Norfolk and Norwich Horticultural Society - ECPv6.15.20//NONSGML v1.0//EN
CALSCALE:GREGORIAN
METHOD:PUBLISH
X-WR-CALNAME:Norfolk and Norwich Horticultural Society
X-ORIGINAL-URL:https://www.nnhs.org.uk
X-WR-CALDESC:Events for Norfolk and Norwich Horticultural Society
REFRESH-INTERVAL;VALUE=DURATION:PT1H
X-Robots-Tag:noindex
X-PUBLISHED-TTL:PT1H
BEGIN:VTIMEZONE
TZID:Europe/London
BEGIN:DAYLIGHT
TZOFFSETFROM:+0000
TZOFFSETTO:+0100
TZNAME:BST
DTSTART:20240331T010000
END:DAYLIGHT
BEGIN:STANDARD
TZOFFSETFROM:+0100
TZOFFSETTO:+0000
TZNAME:GMT
DTSTART:20241027T010000
END:STANDARD
BEGIN:DAYLIGHT
TZOFFSETFROM:+0000
TZOFFSETTO:+0100
TZNAME:BST
DTSTART:20250330T010000
END:DAYLIGHT
BEGIN:STANDARD
TZOFFSETFROM:+0100
TZOFFSETTO:+0000
TZNAME:GMT
DTSTART:20251026T010000
END:STANDARD
BEGIN:DAYLIGHT
TZOFFSETFROM:+0000
TZOFFSETTO:+0100
TZNAME:BST
DTSTART:20260329T010000
END:DAYLIGHT
BEGIN:STANDARD
TZOFFSETFROM:+0100
TZOFFSETTO:+0000
TZNAME:GMT
DTSTART:20261025T010000
END:STANDARD
END:VTIMEZONE
BEGIN:VEVENT
DTSTART;TZID=Europe/London:20250705T140000
DTEND;TZID=Europe/London:20250705T160000
DTSTAMP:20260423T060310
CREATED:20250702T103934Z
LAST-MODIFIED:20250702T104544Z
UID:6176-1751724000-1751731200@www.nnhs.org.uk
SUMMARY:Open Day – Kessingland Gardeners\, Wildlife and Social Club
DESCRIPTION:An open afternoon in St Edmunds Hall in Kessingland.  An opportunity to meet members of this group\, with plant stalls\, competitions and homemade tea and cakes.
URL:https://www.nnhs.org.uk/event/open-day-kessingland-gardeners-wildlife-social-club/
LOCATION:St Edmunds Church Hall\, Kessingland\, Church Road\, Kessingland\, Lowestoft\, Suffolk\, NR32 7SJ\, United Kingdom
CATEGORIES:Social
END:VEVENT
END:VCALENDAR