BEGIN:VCALENDAR
VERSION:2.0
PRODID:-//Norfolk and Norwich Horticultural Society - ECPv6.15.20//NONSGML v1.0//EN
CALSCALE:GREGORIAN
METHOD:PUBLISH
X-ORIGINAL-URL:https://www.nnhs.org.uk
X-WR-CALDESC:Events for Norfolk and Norwich Horticultural Society
REFRESH-INTERVAL;VALUE=DURATION:PT1H
X-Robots-Tag:noindex
X-PUBLISHED-TTL:PT1H
BEGIN:VTIMEZONE
TZID:Europe/London
BEGIN:DAYLIGHT
TZOFFSETFROM:+0000
TZOFFSETTO:+0100
TZNAME:BST
DTSTART:20240331T010000
END:DAYLIGHT
BEGIN:STANDARD
TZOFFSETFROM:+0100
TZOFFSETTO:+0000
TZNAME:GMT
DTSTART:20241027T010000
END:STANDARD
BEGIN:DAYLIGHT
TZOFFSETFROM:+0000
TZOFFSETTO:+0100
TZNAME:BST
DTSTART:20250330T010000
END:DAYLIGHT
BEGIN:STANDARD
TZOFFSETFROM:+0100
TZOFFSETTO:+0000
TZNAME:GMT
DTSTART:20251026T010000
END:STANDARD
BEGIN:DAYLIGHT
TZOFFSETFROM:+0000
TZOFFSETTO:+0100
TZNAME:BST
DTSTART:20260329T010000
END:DAYLIGHT
BEGIN:STANDARD
TZOFFSETFROM:+0100
TZOFFSETTO:+0000
TZNAME:GMT
DTSTART:20261025T010000
END:STANDARD
END:VTIMEZONE
BEGIN:VEVENT
DTSTART;TZID=Europe/London:20250813T193000
DTEND;TZID=Europe/London:20250813T213000
DTSTAMP:20260423T042538
CREATED:20250711T142152Z
LAST-MODIFIED:20250711T142152Z
UID:6207-1755113400-1755120600@www.nnhs.org.uk
SUMMARY:My Journey in Horticulture by Sam Stark-Kemp
DESCRIPTION:Garden Designer\, Plants woman\, Printmaker\, Writer and Columnist Sam Stark-Kemp comes to talk about starting out in horticulture\, studying for a Diploma in Garden Design at the Norfolk School of Gardening\, and winning Gold at the 2025 RHS Hampton Court Palace Garden Festival.  Visitors £2 which includes refreshments and a raffle is held.
URL:https://www.nnhs.org.uk/event/my-journey-in-horticulture-by-sam-stark-kemp/
LOCATION:Loddon and Chedgrave Jubilee Hall\, Jubilee Hall\, George Lane\, Loddon\, Norwich\, NR14 6NB
CATEGORIES:Social
ATTACH;FMTTYPE=image/jpeg:https://www.nnhs.org.uk/wp-content/uploads/2025/07/2025-08-scaled.jpg
END:VEVENT
END:VCALENDAR