BEGIN:VCALENDAR
VERSION:2.0
PRODID:-//Norfolk and Norwich Horticultural Society - ECPv6.15.17.1//NONSGML v1.0//EN
CALSCALE:GREGORIAN
METHOD:PUBLISH
X-ORIGINAL-URL:https://www.nnhs.org.uk
X-WR-CALDESC:Events for Norfolk and Norwich Horticultural Society
REFRESH-INTERVAL;VALUE=DURATION:PT1H
X-Robots-Tag:noindex
X-PUBLISHED-TTL:PT1H
BEGIN:VTIMEZONE
TZID:Europe/London
BEGIN:DAYLIGHT
TZOFFSETFROM:+0000
TZOFFSETTO:+0100
TZNAME:BST
DTSTART:20250330T010000
END:DAYLIGHT
BEGIN:STANDARD
TZOFFSETFROM:+0100
TZOFFSETTO:+0000
TZNAME:GMT
DTSTART:20251026T010000
END:STANDARD
BEGIN:DAYLIGHT
TZOFFSETFROM:+0000
TZOFFSETTO:+0100
TZNAME:BST
DTSTART:20260329T010000
END:DAYLIGHT
BEGIN:STANDARD
TZOFFSETFROM:+0100
TZOFFSETTO:+0000
TZNAME:GMT
DTSTART:20261025T010000
END:STANDARD
BEGIN:DAYLIGHT
TZOFFSETFROM:+0000
TZOFFSETTO:+0100
TZNAME:BST
DTSTART:20270328T010000
END:DAYLIGHT
BEGIN:STANDARD
TZOFFSETFROM:+0100
TZOFFSETTO:+0000
TZNAME:GMT
DTSTART:20271031T010000
END:STANDARD
END:VTIMEZONE
BEGIN:VEVENT
DTSTART;TZID=Europe/London:20260501T191500
DTEND;TZID=Europe/London:20260501T213000
DTSTAMP:20260420T201502
CREATED:20260415T065609Z
LAST-MODIFIED:20260415T065609Z
UID:7260-1777662900-1777671000@www.nnhs.org.uk
SUMMARY:Old Catton Horticultural Club "A Butterfly Garden and a Changing Environment"
DESCRIPTION:A talk by Dr Ian Bedford\, retired research entomologist and Radio Norfolk's 'Bugman'. \nAll Welcome! Non-members - £2.50 (includes tea/coffee).
URL:https://www.nnhs.org.uk/event/old-catton-horticultural-club-a-butterfly-garden-and-a-changing-environment/
LOCATION:St Margaret’s Church Hall\, St Margaret's Church Hall\, Blacksmith's Way\, Old Catton\, Norfolk\, NR6 7DT\, United Kingdom
CATEGORIES:Talks
ATTACH;FMTTYPE=image/jpeg:https://www.nnhs.org.uk/wp-content/uploads/2026/04/Dr-Ian-Bedford-2-scaled.jpg
END:VEVENT
END:VCALENDAR