BEGIN:VCALENDAR
VERSION:2.0
PRODID:-//Norfolk and Norwich Horticultural Society - ECPv6.15.20//NONSGML v1.0//EN
CALSCALE:GREGORIAN
METHOD:PUBLISH
X-ORIGINAL-URL:https://www.nnhs.org.uk
X-WR-CALDESC:Events for Norfolk and Norwich Horticultural Society
REFRESH-INTERVAL;VALUE=DURATION:PT1H
X-Robots-Tag:noindex
X-PUBLISHED-TTL:PT1H
BEGIN:VTIMEZONE
TZID:Europe/London
BEGIN:DAYLIGHT
TZOFFSETFROM:+0000
TZOFFSETTO:+0100
TZNAME:BST
DTSTART:20220327T010000
END:DAYLIGHT
BEGIN:STANDARD
TZOFFSETFROM:+0100
TZOFFSETTO:+0000
TZNAME:GMT
DTSTART:20221030T010000
END:STANDARD
BEGIN:DAYLIGHT
TZOFFSETFROM:+0000
TZOFFSETTO:+0100
TZNAME:BST
DTSTART:20230326T010000
END:DAYLIGHT
BEGIN:STANDARD
TZOFFSETFROM:+0100
TZOFFSETTO:+0000
TZNAME:GMT
DTSTART:20231029T010000
END:STANDARD
BEGIN:DAYLIGHT
TZOFFSETFROM:+0000
TZOFFSETTO:+0100
TZNAME:BST
DTSTART:20240331T010000
END:DAYLIGHT
BEGIN:STANDARD
TZOFFSETFROM:+0100
TZOFFSETTO:+0000
TZNAME:GMT
DTSTART:20241027T010000
END:STANDARD
BEGIN:DAYLIGHT
TZOFFSETFROM:+0000
TZOFFSETTO:+0100
TZNAME:BST
DTSTART:20250330T010000
END:DAYLIGHT
BEGIN:STANDARD
TZOFFSETFROM:+0100
TZOFFSETTO:+0000
TZNAME:GMT
DTSTART:20251026T010000
END:STANDARD
END:VTIMEZONE
BEGIN:VEVENT
DTSTART;TZID=Europe/London:20230902T130000
DTEND;TZID=Europe/London:20230902T160000
DTSTAMP:20260425T021844
CREATED:20230714T155701Z
LAST-MODIFIED:20230714T155701Z
UID:3677-1693659600-1693670400@www.nnhs.org.uk
SUMMARY:Loddon and District Horticultural Society
DESCRIPTION:Annual Open Show.  92 classes for vegetables\, fruit\, plants\, flowers\, cookery and children.  Refreshments\, plant stall.  Classes for local WI's.
URL:https://www.nnhs.org.uk/event/loddon-and-district-horticultural-society-5/
LOCATION:Loddon and Chedgrave Jubilee Hall\, Jubilee Hall\, George Lane\, Loddon\, Norwich\, NR14 6NB
CATEGORIES:Flower & Produce Show
ATTACH;FMTTYPE=image/jpeg:https://www.nnhs.org.uk/wp-content/uploads/2023/07/IMG_5665-scaled.jpg
END:VEVENT
BEGIN:VEVENT
DTSTART;TZID=Europe/London:20230902T140000
DTEND;TZID=Europe/London:20230902T153000
DTSTAMP:20260425T021844
CREATED:20230721T102740Z
LAST-MODIFIED:20230721T102740Z
UID:3705-1693663200-1693668600@www.nnhs.org.uk
SUMMARY:OLD CATTON HORTICULTURAL CLUB AUTUMN SHOW
DESCRIPTION:Come and view 65 classes of vegetables\, flowers\, flower arrangements\, cookery and photography. There will also be refreshments and a tombola stall.
URL:https://www.nnhs.org.uk/event/old-catton-horticultural-club-autumn-show/
LOCATION:St Margaret’s Church Hall\, St Margaret's Church Hall\, Blacksmith's Way\, Old Catton\, Norfolk\, NR6 7DT\, United Kingdom
CATEGORIES:Flower & Produce Show
ATTACH;FMTTYPE=image/jpeg:https://www.nnhs.org.uk/wp-content/uploads/2023/07/Picture1.jpg
END:VEVENT
BEGIN:VEVENT
DTSTART;TZID=Europe/London:20230910T100000
DTEND;TZID=Europe/London:20230910T160000
DTSTAMP:20260425T021844
CREATED:20230609T202554Z
LAST-MODIFIED:20230609T202554Z
UID:3624-1694340000-1694361600@www.nnhs.org.uk
SUMMARY:Early Autumn Show
DESCRIPTION:Our Early Autumn Show features Dahlias\, cut flowers\, pot plants\, fruit and vegetables.  All welcome\, free admission. \nRefreshments available.  Second-hand gardening book & plant sales.
URL:https://www.nnhs.org.uk/event/early-autumn-show/
LOCATION:The Costessey Centre\, The Costessey Centre\, Longwater Lane\, Costessey\, Norwich\, Norfolk\, NR8 5AH
CATEGORIES:Show
ATTACH;FMTTYPE=image/jpeg:https://www.nnhs.org.uk/wp-content/uploads/2022/07/Best-fruit.jpg
ORGANIZER;CN="Norfolk & Norwich Horticultural Society":MAILTO:secretary@nnhs.org.uk
END:VEVENT
BEGIN:VEVENT
DTSTART;TZID=Europe/London:20230910T110000
DTEND;TZID=Europe/London:20230910T120000
DTSTAMP:20260425T021844
CREATED:20230609T202934Z
LAST-MODIFIED:20230609T202934Z
UID:3626-1694343600-1694347200@www.nnhs.org.uk
SUMMARY:Norfolk & Norwich Horticultural Society - Affiliated Societies Meeting
DESCRIPTION:An opportunity for representatives from our affiliated societies to get together and discuss topics relevant to all and share experiences.
URL:https://www.nnhs.org.uk/event/norfolk-norwich-horticultural-society-affiliated-societies-meeting/
LOCATION:The Costessey Centre\, The Costessey Centre\, Longwater Lane\, Costessey\, Norwich\, Norfolk\, NR8 5AH
ATTACH;FMTTYPE=image/jpeg:https://www.nnhs.org.uk/wp-content/uploads/2019/12/Gardening-for-everyone-small.jpg
ORGANIZER;CN="Norfolk & Norwich Horticultural Society":MAILTO:secretary@nnhs.org.uk
END:VEVENT
BEGIN:VEVENT
DTSTART;TZID=Europe/London:20230910T133000
DTEND;TZID=Europe/London:20230910T150000
DTSTAMP:20260425T021844
CREATED:20230609T204335Z
LAST-MODIFIED:20230609T204335Z
UID:3628-1694352600-1694358000@www.nnhs.org.uk
SUMMARY:Drought Tolerant Plants - a talk by Barry Gayton for Norfolk & Norwich Horticultural Society
DESCRIPTION:Barry Gayton of Desertworld Garden\, Santon Downham\, will talk us through a range of drought tolerant plants for our gardens. \nThe talk will take place in the Jerningham Room on the first floor of The Costessey Centre. \nMembers & affiliated society members: £2.50 per person\, payable on the door. \nNon-members: £5 per person\, payable on the door.
URL:https://www.nnhs.org.uk/event/drought-tolerant-plants-a-talk-by-barry-gayton-for-norfolk-norwich-horticultural-society/
LOCATION:The Costessey Centre\, The Costessey Centre\, Longwater Lane\, Costessey\, Norwich\, Norfolk\, NR8 5AH
CATEGORIES:Talks
ATTACH;FMTTYPE=image/jpeg:https://www.nnhs.org.uk/wp-content/uploads/2023/06/P1130248-scaled.jpg
ORGANIZER;CN="Norfolk & Norwich Horticultural Society":MAILTO:secretary@nnhs.org.uk
END:VEVENT
BEGIN:VEVENT
DTSTART;TZID=Europe/London:20230911T193000
DTEND;TZID=Europe/London:20230911T213000
DTSTAMP:20260425T021844
CREATED:20230710T112511Z
LAST-MODIFIED:20230711T095436Z
UID:3650-1694460600-1694467800@www.nnhs.org.uk
SUMMARY:Martham & District Garden Club
DESCRIPTION:Our meeting in September will be on Monday11th September 2023. \nRosemary Ward will give a presentation on "Mediterranean Style Planting". \nMeeting is free to members. For non members there is a small charge of £2.50. \nFor details of all Club events and the Club please visit our web site:- \nmarthamgarden.weebly.com
URL:https://www.nnhs.org.uk/event/martham-district-garden-club-11/
CATEGORIES:Talks
END:VEVENT
BEGIN:VEVENT
DTSTART;TZID=Europe/London:20230916T190000
DTEND;TZID=Europe/London:20230916T210000
DTSTAMP:20260425T021844
CREATED:20230609T132950Z
LAST-MODIFIED:20230609T132950Z
UID:3616-1694890800-1694898000@www.nnhs.org.uk
SUMMARY:“An Evening With Alan Gray” of East Ruston Vicarage Garden
DESCRIPTION:Alan Gray\, co-owner of East Ruston Vicarage Garden and regular presenter on Radio Norfolk's "Garden Party" will be giving a talk about the development of his garden. This will be followed by Cheese and Wine. \nALL WELCOME     Entry by ticket in advance only. \ntel: 01603 410000 or email: ochcsec@btinternet.com \n 
URL:https://www.nnhs.org.uk/event/an-evening-with-alan-gray-of-east-ruston-vicarage-garden/
LOCATION:St Margaret’s Church Hall\, St Margaret's Church Hall\, Blacksmith's Way\, Old Catton\, Norfolk\, NR6 7DT\, United Kingdom
CATEGORIES:Social,Talks
ATTACH;FMTTYPE=image/jpeg:https://www.nnhs.org.uk/wp-content/uploads/2023/06/Alan-Gray.jpg
END:VEVENT
BEGIN:VEVENT
DTSTART;TZID=Europe/London:20231007T193000
DTEND;TZID=Europe/London:20231007T210000
DTSTAMP:20260425T021844
CREATED:20230203T163751Z
LAST-MODIFIED:20230727T124724Z
UID:3352-1696707000-1696712400@www.nnhs.org.uk
SUMMARY:Talk by Christine Walkden: The Life & Times of a Gardener
DESCRIPTION:Celebrity Gardener and TV personality Christine Walkden will give us her talk entitled "The Life & Times of A Gardener" in the Memorial Hall\, Dereham.  Doors open at 6.30pm\, bar available.  Tiered seating with wheelchair spaces on the first row. \nThe talk is open to all.  Follow this link to book your place(s): \nhttps://www.ticketsource.co.uk/norfolk-and-norwich-horticultural-society \nPlease use the Contact Us option if you have any difficulty using the above link.
URL:https://www.nnhs.org.uk/event/talk-by-christine-walkden-the-life-times-of-a-gardener/
LOCATION:Dereham Memorial Hall\, Dereham Memorial Hall\, 62A Norwich Street\, Dereham\, Norfolk\, NR19 1AD\, United Kingdom
CATEGORIES:Talks
ATTACH;FMTTYPE=image/jpeg:https://www.nnhs.org.uk/wp-content/uploads/2023/02/Christine-Walkden.jpg
ORGANIZER;CN="Norfolk & Norwich Horticultural Society":MAILTO:secretary@nnhs.org.uk
END:VEVENT
BEGIN:VEVENT
DTSTART;TZID=Europe/London:20231009T193000
DTEND;TZID=Europe/London:20231009T213000
DTSTAMP:20260425T021844
CREATED:20230711T095409Z
LAST-MODIFIED:20230711T095409Z
UID:3653-1696879800-1696887000@www.nnhs.org.uk
SUMMARY:Martham & District Garden Club
DESCRIPTION:Our meeting in October  will be on Monday 9th October 2023. \nKristopher Harper will give a presentation on "James Lye and his Fuchsias". \nMeeting is free to members. For non members there is a small charge of £2.50. \nFor details of all Club events and the Club please visit our web site:- \nmarthamgarden.weebly.com
URL:https://www.nnhs.org.uk/event/martham-district-garden-club-12/
CATEGORIES:Talks
END:VEVENT
BEGIN:VEVENT
DTSTART;TZID=Europe/London:20231112T100000
DTEND;TZID=Europe/London:20231112T160000
DTSTAMP:20260425T021844
CREATED:20230609T204939Z
LAST-MODIFIED:20230609T204939Z
UID:3631-1699783200-1699804800@www.nnhs.org.uk
SUMMARY:Late Autumn Show - Norfolk & Norwich Horticultural Society
DESCRIPTION:Our last show of 2023 will feature Chrysanthemums\, Floral Art\, Pot Plants\, Cut Flowers\, Fruit\, Vegetables and Cookery classes.  Special classes for juniors\, affiliated societies and novice exhibitors. \nFree admission\, all welcome.  Plants and second-hand gardening books for sale.  Refreshments available.
URL:https://www.nnhs.org.uk/event/late-autumn-show-norfolk-norwich-horticultural-society/
LOCATION:St Faiths Centre\, St Faiths Centre\, Horsham St Faith\, Norwich\, Norfolk\, NR10 3LF
CATEGORIES:Show
ATTACH;FMTTYPE=image/jpeg:https://www.nnhs.org.uk/wp-content/uploads/2020/02/late-autumn-show.jpg
ORGANIZER;CN="Norfolk & Norwich Horticultural Society":MAILTO:secretary@nnhs.org.uk
END:VEVENT
BEGIN:VEVENT
DTSTART;TZID=Europe/London:20231113T193000
DTEND;TZID=Europe/London:20231113T213000
DTSTAMP:20260425T021844
CREATED:20230909T134306Z
LAST-MODIFIED:20231019T095413Z
UID:3806-1699903800-1699911000@www.nnhs.org.uk
SUMMARY:Martham & District Garden Club
DESCRIPTION:Our meeting in November will be on Monday 13th November 2023. \nPeter Skaggs-Gooch (Thorncroft Clematis Ltd.) will give a presentation on "A Complete Guide to Clematis". \nMeeting is free to members. For non members there is a small charge of £2.50. \nFor details of all Club events and the Club please visit our web site:- \nmarthamgarden.weebly.com
URL:https://www.nnhs.org.uk/event/martham-district-garden-club-13/
CATEGORIES:Talks
END:VEVENT
BEGIN:VEVENT
DTSTART;TZID=Europe/London:20231123T023000
DTEND;TZID=Europe/London:20231123T163000
DTSTAMP:20260425T021844
CREATED:20231118T153412Z
LAST-MODIFIED:20231118T153412Z
UID:3885-1700706600-1700757000@www.nnhs.org.uk
SUMMARY:Wildlife Garden Ponds
DESCRIPTION:Our November meeting will have the well known Norfolk naturalist and author Simon Harrap give a presentation on Wildlife Garden Ponds. Simon has written several books on wildlife topics including wildflowers. Along with his wife Anne\, Simon runs Natural Surroundings on the Bayfield estate near Holt in Norfolk. Simon is passionate about encouraging wildlife into our gardens with either plantings or via a wildlife pond. Simon will talk about how to create a wildlife pond in your garden and how to maximise attracting wildlife into it. Simon will also talk about how to maintain your wildlife pond through the seasons.
URL:https://www.nnhs.org.uk/event/wildlife-garden-ponds/
LOCATION:Holme Hale Pavilion\, Holme Hale Pavillion\, School Road\,\, Holme Hale\, IP25 7DP
CATEGORIES:Meetings
ATTACH;FMTTYPE=image/jpeg:https://www.nnhs.org.uk/wp-content/uploads/2023/11/images.jpg
END:VEVENT
BEGIN:VEVENT
DTSTART;TZID=Europe/London:20240108T193000
DTEND;TZID=Europe/London:20240108T220000
DTSTAMP:20260425T021844
CREATED:20240103T095607Z
LAST-MODIFIED:20240103T095607Z
UID:3999-1704742200-1704751200@www.nnhs.org.uk
SUMMARY:Martham & District Garden Club
DESCRIPTION:Our first meeting in the New Year will be on Monday 8th January 2024. \nDr Ian Bedford will give a presentation on "Gardens for us and Wildlife". \nMeeting is free to members. For non members there is a small charge of £2.50. \nFor details of all Club events and the Club please visit our web site:- \nmarthamgarden.weebly.com
URL:https://www.nnhs.org.uk/event/martham-district-garden-club-14/
CATEGORIES:Talks
END:VEVENT
BEGIN:VEVENT
DTSTART;TZID=Europe/London:20240110T193000
DTEND;TZID=Europe/London:20240110T210000
DTSTAMP:20260425T021844
CREATED:20240106T114814Z
LAST-MODIFIED:20240106T114814Z
UID:4020-1704915000-1704920400@www.nnhs.org.uk
SUMMARY:Sowing\, Growing & Showing Alpines - Zoom talk by Jim Almond
DESCRIPTION:Our first meeting of 2024 will be a virtual one\, with an online Zoom talk by Jim Almond on the subject of "Sowing\, Growing & Showing Alpines". \nMembers of the Norfolk Group of the Alpine Garden Society will be sent the Zoom link.  Members of other AGS groups - please follow the link above for details of how you can join the meeting.
URL:https://www.nnhs.org.uk/event/sowing-growing-showing-alpines-zoom-talk-by-jim-almond/
CATEGORIES:Talks,Zoom online talk
ATTACH;FMTTYPE=image/jpeg:https://www.nnhs.org.uk/wp-content/uploads/2024/01/P1020063-scaled.jpg
ORGANIZER;CN="Alpine Garden Society%2C Norfolk Group":MAILTO:dianenblyth@gmail.com
END:VEVENT
BEGIN:VEVENT
DTSTART;TZID=Europe/London:20240111T140000
DTEND;TZID=Europe/London:20240111T153000
DTSTAMP:20260425T021844
CREATED:20240106T113338Z
LAST-MODIFIED:20240106T113338Z
UID:4016-1704981600-1704987000@www.nnhs.org.uk
SUMMARY:Beautiful Bulbs - talk by Simon White
DESCRIPTION:At our January meeting Simon White of Peter Beales Roses Ltd will give us a talk on the subject of "Beautiful Bulbs". \nNon-members welcome\, £7 per person payable on the day. \nDoors open at 1.30pm for a 2pm start. \n 
URL:https://www.nnhs.org.uk/event/beautiful-bulbs-talk-by-simon-white/
LOCATION:New Buckenham Village Hall\, New Buckenham Village Hall\, Moat Lane\, New Buckenham\, Norfolk\, NR16 2AU
CATEGORIES:Talks
ATTACH;FMTTYPE=image/jpeg:https://www.nnhs.org.uk/wp-content/uploads/2024/01/Breckland.jpg
END:VEVENT
BEGIN:VEVENT
DTSTART;TZID=Europe/London:20240113T140000
DTEND;TZID=Europe/London:20240113T163000
DTSTAMP:20260425T021844
CREATED:20231017T095251Z
LAST-MODIFIED:20231017T095251Z
UID:3844-1705154400-1705163400@www.nnhs.org.uk
SUMMARY:Annual General Meeting
DESCRIPTION:All members and representatives of our affiliated societies are invited to attend our Annual General Meeting.  We will be discussing our activities for year ended 30 September 2023 and looking forward to future events.  We will also make our All Shows trophy awards for 2023. \nArrive from 1.30pm for tea/coffee and the AGM will start at 2pm.  There will be an opportunity to socialise after the meeting.
URL:https://www.nnhs.org.uk/event/annual-general-meeting-2/
LOCATION:East Tuddenham Jubilee Hall\, East Tuddenham Jubilee Hall\, Mattishall Road\, East Tuddenham\, Norfolk\, NR20 3LR\, United Kingdom
CATEGORIES:Annual General Meeting,Meetings
ATTACH;FMTTYPE=image/jpeg:https://www.nnhs.org.uk/wp-content/uploads/2020/02/Gardening-for-everyone-optimise.jpg
ORGANIZER;CN="Norfolk & Norwich Horticultural Society":MAILTO:secretary@nnhs.org.uk
END:VEVENT
BEGIN:VEVENT
DTSTART;TZID=Europe/London:20240125T143000
DTEND;TZID=Europe/London:20240125T163000
DTSTAMP:20260425T021844
CREATED:20240111T103144Z
LAST-MODIFIED:20240111T103144Z
UID:4025-1706193000-1706200200@www.nnhs.org.uk
SUMMARY:Garden Pests & Diseaases
DESCRIPTION:Our January 2024 meeting will have the well known Norfolk gardener Martyn Davey give a presentation on Garden Pests and Diseases. Martyn is the regular gardening columnist for the Eastern Daily Press and regular contributor to the Garden Party on radio Norfolk. Previously a senior lecturer at Easton & Ottley College Martyn has a wealth of knowledge on pests and diseases we find in our garden. He will talk about the various pests and diseases we encounter in our gardens and how\, as a gardener\, we can combat or ameliorate their detrimental effects.
URL:https://www.nnhs.org.uk/event/garden-pests-diseaases/
LOCATION:Holme Hale Pavilion\, Holme Hale Pavillion\, School Road\,\, Holme Hale\, IP25 7DP
CATEGORIES:Talks
ATTACH;FMTTYPE=image/jpeg:https://www.nnhs.org.uk/wp-content/uploads/2024/01/Martyn-Davey.jpg
ORGANIZER;CN="Ashill%2C Holme Hale & District Garden Club":MAILTO:ashillholmehalegardenclub@gmail.com
END:VEVENT
BEGIN:VEVENT
DTSTART;TZID=Europe/London:20240201T193000
DTEND;TZID=Europe/London:20240201T210000
DTSTAMP:20260425T021844
CREATED:20240106T111426Z
LAST-MODIFIED:20240106T111426Z
UID:4010-1706815800-1706821200@www.nnhs.org.uk
SUMMARY:Good Companions in the Garden - talk by Tim Fuller
DESCRIPTION:Tim Fuller of The Plantsman's Preference at South Lopham will give us a talk on Good Companions in the garden. \nFree for Shipdham Garden Club & Horticultural Society members.  Non-members welcome\, £3 per person including tea/coffee & biscuits.
URL:https://www.nnhs.org.uk/event/good-companions-in-the-garden-talk-by-tim-fuller/
LOCATION:WI Hall Shipdham\, Shipdam W I Hall\, High Street\, Shipdham\, Thetford\, Norfolk\, IP25 7PA\, United Kingdom
CATEGORIES:Talks
ATTACH;FMTTYPE=image/jpeg:https://www.nnhs.org.uk/wp-content/uploads/2024/01/Companions.jpg
END:VEVENT
BEGIN:VEVENT
DTSTART;TZID=Europe/London:20240212T193000
DTEND;TZID=Europe/London:20240212T220000
DTSTAMP:20260425T021844
CREATED:20240105T102748Z
LAST-MODIFIED:20240105T102748Z
UID:4003-1707766200-1707775200@www.nnhs.org.uk
SUMMARY:Martham & District Garden Club
DESCRIPTION:Our February meeting will be on Monday 12th February 2024. \nIan Limmer (Peter Beales Roses)  will give a presentation on "Getting the Best from Your Roses". \nMeeting is free to members. For non members there is a small charge of £2.50. \nFor details of all Club events and the Club please visit our web site:- \nmarthamgarden.weebly.com
URL:https://www.nnhs.org.uk/event/martham-district-garden-club-15/
CATEGORIES:Talks
END:VEVENT
BEGIN:VEVENT
DTSTART;TZID=Europe/London:20240214T193000
DTEND;TZID=Europe/London:20240214T213000
DTSTAMP:20260425T021844
CREATED:20240116T092315Z
LAST-MODIFIED:20240116T092315Z
UID:4035-1707939000-1707946200@www.nnhs.org.uk
SUMMARY:Loddon and District Horticultural Society
DESCRIPTION:Talk by Peter Skeggs-Gooch on A Complete Guide to Clematis.  Peter is the third- generation owner of award-winning Thorncroft Clematis.  Having grown up living at the nursery\, Peter has been surrounded by clematis from five years old.  This talk will cover all you want to know.  Visitors £2.
URL:https://www.nnhs.org.uk/event/loddon-and-district-horticultural-society-6/
LOCATION:Loddon and Chedgrave Jubilee Hall\, Jubilee Hall\, George Lane\, Loddon\, Norwich\, NR14 6NB
CATEGORIES:Social
ATTACH;FMTTYPE=image/jpeg:https://www.nnhs.org.uk/wp-content/uploads/2024/01/IMG_7497-scaled.jpg
END:VEVENT
BEGIN:VEVENT
DTSTART;TZID=Europe/London:20240217T103000
DTEND;TZID=Europe/London:20240217T123000
DTSTAMP:20260425T021844
CREATED:20231031T205956Z
LAST-MODIFIED:20240215T121414Z
UID:3874-1708165800-1708173000@www.nnhs.org.uk
SUMMARY:Visit to Horstead House Snowdrops
DESCRIPTION:A private visit for members and affiliated society members to view the snowdrops at Horstead House. \nBookings have closed. \n 
URL:https://www.nnhs.org.uk/event/visit-to-horstead-house-snowdrops/
LOCATION:Horstead House\, Horstead House\, Mill Road\, Horstead\, Norwich\, Norfolk\, NR12 7AU\, United Kingdom
CATEGORIES:Garden Visit
ATTACH;FMTTYPE=image/png:https://www.nnhs.org.uk/wp-content/uploads/2023/03/IMG_0048.png
ORGANIZER;CN="Norfolk & Norwich Horticultural Society":MAILTO:secretary@nnhs.org.uk
END:VEVENT
BEGIN:VEVENT
DTSTART;TZID=Europe/London:20240222T143000
DTEND;TZID=Europe/London:20240222T163000
DTSTAMP:20260425T021844
CREATED:20240208T155318Z
LAST-MODIFIED:20240208T155318Z
UID:4067-1708612200-1708619400@www.nnhs.org.uk
SUMMARY:Rethinking Your Garden
DESCRIPTION:Well known gardener and author Andrew Sankey will give a presentation full of ideas for re-designing parts of the garden\, hiding eyesores\, creating new borders\, making the garden low maintenance\, putting in a feature. You`ll get tips on ideas like ‘repeat planting’ and the ‘importance of paths.
URL:https://www.nnhs.org.uk/event/rethinking-your-garden/
LOCATION:Holme Hale Pavilion\, Holme Hale Pavillion\, School Road\,\, Holme Hale\, IP25 7DP
ATTACH;FMTTYPE=image/jpeg:https://www.nnhs.org.uk/wp-content/uploads/2024/01/Garden-Club-Speaker-Flyer.jpg
ORGANIZER;CN="Ashill%2C Holme Hale & District Garden Club":MAILTO:ashillholmehalegardenclub@gmail.com
END:VEVENT
BEGIN:VEVENT
DTSTART;TZID=Europe/London:20240302T080000
DTEND;TZID=Europe/London:20240302T160000
DTSTAMP:20260425T021844
CREATED:20240121T115308Z
LAST-MODIFIED:20240211T130325Z
UID:4047-1709366400-1709395200@www.nnhs.org.uk
SUMMARY:Coach trip to Alpine Garden Society Early Spring Show & Plant Fair
DESCRIPTION:We have organised a coach trip to the Alpine Garden Society Early Spring Show & Plant Fair at Chelmsford Racecourse on Saturday 2 March 2024.  There are a few seats available\, please Contact Us if you are interested in coming with us. \nThis is a new venue for this indoor show and many nurseries and other societies will be attending.  Please follow the link for details. \nCoach cost £20 per person.  AGS members get free entry to the show\, non-members pay £5 on the door. \nWe will depart from Hethersett Village Hall\, Back Lane\, Hethersett\, NR9 3JJ at 8am.  A second pick up will be made on the main road in Long Stratton\, from where we will travel directly to the show\, arriving around 9.30am.  We will leave at 2.30pm\, arriving back at around 4pm. \n  \n 
URL:https://www.nnhs.org.uk/event/coach-trip-to-alpine-garden-society-early-spring-show-plant-fair/
LOCATION:Chelmsford City Racecourse\, City Racecourse\, Chelmsford\, Essex\, CM3 1QP\, United Kingdom
CATEGORIES:Coach Trip,Plant Fair,Show
ATTACH;FMTTYPE=image/jpeg:https://www.nnhs.org.uk/wp-content/uploads/2024/01/P1020063-scaled.jpg
ORGANIZER;CN="Norfolk & Norwich Horticultural Society":MAILTO:secretary@nnhs.org.uk
END:VEVENT
BEGIN:VEVENT
DTSTART;TZID=Europe/London:20240307T193000
DTEND;TZID=Europe/London:20240307T210000
DTSTAMP:20260425T021844
CREATED:20240106T112142Z
LAST-MODIFIED:20240106T112142Z
UID:4013-1709839800-1709845200@www.nnhs.org.uk
SUMMARY:Edible Flowers - talk by Martyn Davey
DESCRIPTION:Our meeting this evening will include a talk by Martyn Davey on the subject of "Edible Flowers". \nFree to members of Shipdham Garden Club & Horticultural Society.  Non-members welcome\, £3 per person including tea/coffee and biscuits.
URL:https://www.nnhs.org.uk/event/edible-flowers-talk-by-martyn-davey/
LOCATION:WI Hall Shipdham\, Shipdam W I Hall\, High Street\, Shipdham\, Thetford\, Norfolk\, IP25 7PA\, United Kingdom
CATEGORIES:Talks
ATTACH;FMTTYPE=image/jpeg:https://www.nnhs.org.uk/wp-content/uploads/2024/01/Edible.jpg
END:VEVENT
BEGIN:VEVENT
DTSTART;TZID=Europe/London:20240311T193000
DTEND;TZID=Europe/London:20240311T220000
DTSTAMP:20260425T021844
CREATED:20240105T103228Z
LAST-MODIFIED:20240105T103228Z
UID:4007-1710185400-1710194400@www.nnhs.org.uk
SUMMARY:Martham & District Garden Club
DESCRIPTION:Our meeting in March will be on Monday 11th March 2024. \nAndrew Sankey will give a presentation on "A Year in the Life of a Cottage Garden". \nMeeting is free to members. For non members there is a small charge of £2.50. \nFor details of all Club events and the Club please visit our web site:- \nmarthamgarden.weebly.com
URL:https://www.nnhs.org.uk/event/martham-district-garden-club-16/
CATEGORIES:Talks
END:VEVENT
BEGIN:VEVENT
DTSTART;TZID=Europe/London:20240312T193000
DTEND;TZID=Europe/London:20240312T213000
DTSTAMP:20260425T021844
CREATED:20240305T171943Z
LAST-MODIFIED:20240305T171943Z
UID:4160-1710271800-1710279000@www.nnhs.org.uk
SUMMARY:Diss & District Horticultural Society
DESCRIPTION:March Monthly Meeting
URL:https://www.nnhs.org.uk/event/diss-district-horticultural-society-3/
LOCATION:Diss United Reform Church\, Diss United Reform Church\, Mere Street\, Diss\, IP22 4AD
CATEGORIES:Meetings
ATTACH;FMTTYPE=image/png:https://www.nnhs.org.uk/wp-content/uploads/2024/03/Meeting-Reminder-March.png
END:VEVENT
BEGIN:VEVENT
DTSTART;TZID=Europe/London:20240313T193000
DTEND;TZID=Europe/London:20240313T213000
DTSTAMP:20260425T021844
CREATED:20240218T124509Z
LAST-MODIFIED:20240218T124509Z
UID:4102-1710358200-1710365400@www.nnhs.org.uk
SUMMARY:Loddon and District Horticultural Society
DESCRIPTION:Talk on Cottage Cures and Superstitions by Andrew Sankey.  An amusing talk by Andrew on various plants\, their uses\, supposedly medicinal properties and connected superstitions.  Find out why folk swallowed live spiders or rolled in beds of nettles! \nRefreshments available and raffle held.  Visitors £2\, members free.
URL:https://www.nnhs.org.uk/event/loddon-and-district-horticultural-society-7/
LOCATION:Loddon and Chedgrave Jubilee Hall\, Jubilee Hall\, George Lane\, Loddon\, Norwich\, NR14 6NB
CATEGORIES:Social
ATTACH;FMTTYPE=image/jpeg:https://www.nnhs.org.uk/wp-content/uploads/2024/02/IMG_7565-scaled.jpg
END:VEVENT
BEGIN:VEVENT
DTSTART;TZID=Europe/London:20240320T193000
DTEND;TZID=Europe/London:20240320T210000
DTSTAMP:20260425T021844
CREATED:20240418T114038Z
LAST-MODIFIED:20240418T114038Z
UID:4196-1710963000-1710968400@www.nnhs.org.uk
SUMMARY:Gardens for Us and Them - talk by Dr Ian Bedford
DESCRIPTION:Dr Ian Bedford speaks of ‘Gardens for Us and Them’ \nand is preceded by the Club’s Annual General Meeting. \nThe Gardening Club Members’ monthly meeting starts at 7.30pm in the Methodist Church Hall\, located in the Great Melton Road\, Hethersett\, NR9 3AB. Meetings last until 9pm when refreshments are available\, the meeting is at no cost to Members. \nAll meetings are held on the third Wednesday of the month excepting December which is held on the second Wednesday. \nVisitors are very welcome at a fee of £2.00. \nThe half year Annual Society Membership fee is £10\, Juniors’ fee is £1.50.
URL:https://www.nnhs.org.uk/event/gardens-for-us-and-them-talk-by-dr-ian-bedford/
LOCATION:Hethersett Methodist Church Hall\, Heathersett Methodist Church Hall\, 32 Great Melton Road\, Hethersett\, NR9 3AB
ATTACH;FMTTYPE=image/jpeg:https://www.nnhs.org.uk/wp-content/uploads/2024/03/PNBadvert-20.03.24-HGC-Meeting.jpg
END:VEVENT
BEGIN:VEVENT
DTSTART;TZID=Europe/London:20240323T140000
DTEND;TZID=Europe/London:20240323T170000
DTSTAMP:20260425T021844
CREATED:20240418T113923Z
LAST-MODIFIED:20240418T113923Z
UID:4211-1711202400-1711213200@www.nnhs.org.uk
SUMMARY:Group Spring Table Show and Talk by Michael Sullivan
DESCRIPTION:Group Show – Judged by Michael Sullivan who will also give a talk on the cultivation of Saxifraga\, Lewisia and Correa. \nAll welcome - visitors £2 \n 
URL:https://www.nnhs.org.uk/event/group-spring-table-show-and-talk-by-michael-sullivan/
LOCATION:Hethersett Village Hall\, Hethersett Village Hall\, Back Lane\, Hethersett\, Norwich\, Norfolk\, NR9 3JJ\, United Kingdom
ATTACH;FMTTYPE=image/jpeg:https://www.nnhs.org.uk/wp-content/uploads/2024/03/blue.jpg
ORGANIZER;CN="Alpine Garden Society%2C Norfolk Group":MAILTO:dianenblyth@gmail.com
END:VEVENT
BEGIN:VEVENT
DTSTART;TZID=Europe/London:20240324T090000
DTEND;TZID=Europe/London:20240324T170000
DTSTAMP:20260425T021844
CREATED:20231115T212004Z
LAST-MODIFIED:20240211T125531Z
UID:3889-1711270800-1711299600@www.nnhs.org.uk
SUMMARY:Coach trip to Green Island Gardens\, Essex
DESCRIPTION:A day trip for members and affiliated society members with Avanti Coach Travel to Green Island Gardens in Essex. \nWe have sufficient expressions of interest to fill a coach plus a waiting list. \nDeparting from Easton College at 9.15am and picking up in Long Stratton on route. \nArriving at Green Island Gardens around 11am and departing at 3pm.  Arriving back at Easton College around 4.45pm. \nCost £40 for members and affiliates.  Price includes hot drink on arrival followed by a lunch of soup and a roll\, cake and hot drink.
URL:https://www.nnhs.org.uk/event/coach-trip-to-green-island-gardens-essex/
LOCATION:Green Island Gardens\, Green Island Gardens\, Park Road\, Ardleigh\, Colchester\, Essex\, CO7 7SP\, United Kingdom
CATEGORIES:Coach Trip,Garden Visit
ATTACH;FMTTYPE=image/jpeg:https://www.nnhs.org.uk/wp-content/uploads/2023/11/Daffodils-2020-scaled.jpg
ORGANIZER;CN="Norfolk & Norwich Horticultural Society":MAILTO:secretary@nnhs.org.uk
END:VEVENT
END:VCALENDAR