BEGIN:VCALENDAR
VERSION:2.0
PRODID:-//Norfolk and Norwich Horticultural Society - ECPv6.15.20//NONSGML v1.0//EN
CALSCALE:GREGORIAN
METHOD:PUBLISH
X-ORIGINAL-URL:https://www.nnhs.org.uk
X-WR-CALDESC:Events for Norfolk and Norwich Horticultural Society
REFRESH-INTERVAL;VALUE=DURATION:PT1H
X-Robots-Tag:noindex
X-PUBLISHED-TTL:PT1H
BEGIN:VTIMEZONE
TZID:Europe/London
BEGIN:DAYLIGHT
TZOFFSETFROM:+0000
TZOFFSETTO:+0100
TZNAME:BST
DTSTART:20250330T010000
END:DAYLIGHT
BEGIN:STANDARD
TZOFFSETFROM:+0100
TZOFFSETTO:+0000
TZNAME:GMT
DTSTART:20251026T010000
END:STANDARD
BEGIN:DAYLIGHT
TZOFFSETFROM:+0000
TZOFFSETTO:+0100
TZNAME:BST
DTSTART:20260329T010000
END:DAYLIGHT
BEGIN:STANDARD
TZOFFSETFROM:+0100
TZOFFSETTO:+0000
TZNAME:GMT
DTSTART:20261025T010000
END:STANDARD
BEGIN:DAYLIGHT
TZOFFSETFROM:+0000
TZOFFSETTO:+0100
TZNAME:BST
DTSTART:20270328T010000
END:DAYLIGHT
BEGIN:STANDARD
TZOFFSETFROM:+0100
TZOFFSETTO:+0000
TZNAME:GMT
DTSTART:20271031T010000
END:STANDARD
BEGIN:DAYLIGHT
TZOFFSETFROM:+0000
TZOFFSETTO:+0100
TZNAME:BST
DTSTART:20280326T010000
END:DAYLIGHT
BEGIN:STANDARD
TZOFFSETFROM:+0100
TZOFFSETTO:+0000
TZNAME:GMT
DTSTART:20281029T010000
END:STANDARD
END:VTIMEZONE
BEGIN:VEVENT
DTSTART;TZID=Europe/London:20260605T191500
DTEND;TZID=Europe/London:20260605T213000
DTSTAMP:20260423T152755
CREATED:20260413T154922Z
LAST-MODIFIED:20260413T154922Z
UID:7254-1780686900-1780695000@www.nnhs.org.uk
SUMMARY:Old Catton Horticultural Club Flower Arranging demonstration
DESCRIPTION:David Wright from Larch Cottage Florist will be giving a flower arranging demonstration\, making 4 arrangements which will be the raffle prizes at the end of the evening. All welcome!
URL:https://www.nnhs.org.uk/event/old-catton-horticultural-club-flower-arranging-demonstration/
LOCATION:St Margaret’s Church Hall\, St Margaret's Church Hall\, Blacksmith's Way\, Old Catton\, Norfolk\, NR6 7DT\, United Kingdom
CATEGORIES:Flower Arranging Demonstration
ATTACH;FMTTYPE=image/jpeg:https://www.nnhs.org.uk/wp-content/uploads/2026/04/David-Wright-poster-scaled.jpg
END:VEVENT
BEGIN:VEVENT
DTSTART;TZID=Europe/London:20260612T183000
DTEND;TZID=Europe/London:20260612T203000
DTSTAMP:20260423T152755
CREATED:20251112T101506Z
LAST-MODIFIED:20260215T101032Z
UID:6481-1781289000-1781296200@www.nnhs.org.uk
SUMMARY:President's Evening at Elsing Hall
DESCRIPTION:We are looking forward to an evening visit and buffet at the home of our new President\, Patrick Lines of Elsing Hall.  All society members\, affiliated society members and their guests are welcome to attend - deadline for bookings is Thursday 4  June 2026.
URL:https://www.nnhs.org.uk/event/presidents-evening-at-elsing-hall/
LOCATION:Elsing Hall\, Elsing Hall\, Hall Road\, Elsing\, Dereham\, Norfolk\, NR20 3DX
CATEGORIES:Presidents Evening
ATTACH;FMTTYPE=image/jpeg:https://www.nnhs.org.uk/wp-content/uploads/2025/11/9629-04.jpg
ORGANIZER;CN="Norfolk & Norwich Horticultural Society":MAILTO:secretary@nnhs.org.uk
END:VEVENT
BEGIN:VEVENT
DTSTART;TZID=Europe/London:20260624T080000
DTEND;TZID=Europe/London:20260625T180000
DTSTAMP:20260423T152755
CREATED:20250818T144849Z
LAST-MODIFIED:20260213T142140Z
UID:6330-1782288000-1782410400@www.nnhs.org.uk
SUMMARY:NNHS Summer Show within the Royal Norfolk Show
DESCRIPTION:Our summer show takes place within the Garden Village marquee at the Royal Norfolk Show. \nEntry is open to everyone\, free of charge.  See our shows page for details of the show schedules and entry forms. \nSpecial competitions for 2026\, to be judged by the general public: \nCress Head in a decorated egg shell - for juniors up to age 11.  Sponsored by Nurtured in Norfolk. \nGarden in a seed tray - for adults and juniors.  Sponsored by Berrycroft Horticultural Supplies. \nPlus we invite you to enter our Hanging Basket competition (Class 99).  Sponsored by Berrycroft Horticultural Supplies. \nFlower Arranging competitions are also available\, including a free to enter Beginners Competition to be judged by the general public.
URL:https://www.nnhs.org.uk/event/nnhs-summer-show-within-the-royal-norfolk-show-2/
LOCATION:Norfolk Showground\, Norfolk Showground\, Dereham Road\, Norwich\, Norfolk\, NR5 0TT\, United Kingdom
CATEGORIES:Flower & Produce Show
ATTACH;FMTTYPE=image/jpeg:https://www.nnhs.org.uk/wp-content/uploads/2025/08/Roses-and-Pelargoniums-Summer-Show-2025.jpg
ORGANIZER;CN="Norfolk & Norwich Horticultural Society":MAILTO:secretary@nnhs.org.uk
END:VEVENT
BEGIN:VEVENT
DTSTART;TZID=Europe/London:20260625T180000
DTEND;TZID=Europe/London:20260625T200000
DTSTAMP:20260423T152755
CREATED:20260408T105732Z
LAST-MODIFIED:20260408T105732Z
UID:7184-1782410400-1782417600@www.nnhs.org.uk
SUMMARY:Norfolk & Suffolk Hardy Plant Society: Garden Visit to 5 Parklands Green\, Fornham St Genevieve\, Bury St Edmunds\, Suffolk IP28 6UH
DESCRIPTION:A 1½ acre gardens developed since the 1980s for all year interest. There are mature and unusual trees and shrubs and riotous herbaceous borders. Explore the maze of paths to find four informal ponds\, a treehouse\, the sunken garden\, greenhouses and woodland walks. \nThe admission charge includes refreshments.
URL:https://www.nnhs.org.uk/event/norfolk-suffolk-hardy-plant-society-garden-visit-to-5-parklands-green-fornham-st-genevieve-bury-st-edmunds-suffolk-ip28-6uh/
LOCATION:5 Parklands Green\, Parklands Green\, Fornham St Genevieve\, Bury St Edmunds\, Suffolk\, IP28 6UH
CATEGORIES:Garden Visit
ATTACH;FMTTYPE=image/jpeg:https://www.nnhs.org.uk/wp-content/uploads/2026/04/5-Parklands-Green.jpg
END:VEVENT
BEGIN:VEVENT
DTSTART;TZID=Europe/London:20260719T080000
DTEND;TZID=Europe/London:20260719T170000
DTSTAMP:20260423T152755
CREATED:20251124T130850Z
LAST-MODIFIED:20260324T124859Z
UID:6572-1784448000-1784480400@www.nnhs.org.uk
SUMMARY:Day coach trip to The Windmill at Impington and Easton Walled Garden near Grantham
DESCRIPTION:A day out visiting The Windmill at Impington (supporting the National Garden Scheme) and  Easton Walled Garden with our coach company Avanti Coach Holidays. \nParking at and departure from Easton College\, leaving at 8am and returning 6pm. \nExpressions of interest have been taken from members and affiliated society members\, and anyone who did so can now book their tickets through this site.  Cost £55 per person\, including entrance to both gardens and tea/coffee at The Windmill.  Anyone else who wishes to book should contact the General Secretary first through our Contact Us page. \n 
URL:https://www.nnhs.org.uk/event/day-coach-trip-destination-to-be-confirmed/
LOCATION:Easton Walled Gardens\, The Square\, Easton Walled Gardens\, Easton\, Grantham\, Lincolnshire\, NG33 5AP
CATEGORIES:Coach Trip,Garden Visit
ATTACH;FMTTYPE=image/jpeg:https://www.nnhs.org.uk/wp-content/uploads/2025/11/Easton-Walled-Gardens.jpg
ORGANIZER;CN="Norfolk & Norwich Horticultural Society":MAILTO:secretary@nnhs.org.uk
END:VEVENT
BEGIN:VEVENT
DTSTART;TZID=Europe/London:20260911T190000
DTEND;TZID=Europe/London:20260911T220000
DTSTAMP:20260423T152755
CREATED:20260403T155531Z
LAST-MODIFIED:20260414T084633Z
UID:7145-1789153200-1789164000@www.nnhs.org.uk
SUMMARY:CHEESE & WINE EVENING with TV Gardener Nick Bailey
DESCRIPTION:OLD CATTON HORTICULTURAL CLUB are hosting a Cheese and Wine Evening when Nick Bailey will be giving a talk entitled " Confessions of a TV Gardener". \nEntry by ticket in advance.
URL:https://www.nnhs.org.uk/event/cheese-wine-evening-with-tv-gardener-nick-bailey/
LOCATION:St Margaret’s Church Hall\, St Margaret's Church Hall\, Blacksmith's Way\, Old Catton\, Norfolk\, NR6 7DT\, United Kingdom
ATTACH;FMTTYPE=image/jpeg:https://www.nnhs.org.uk/wp-content/uploads/2026/04/Nick-Bailey.jpg
END:VEVENT
BEGIN:VEVENT
DTSTART;TZID=Europe/London:20260913T100000
DTEND;TZID=Europe/London:20260913T160000
DTSTAMP:20260423T152755
CREATED:20250524T203734Z
LAST-MODIFIED:20250524T203752Z
UID:6106-1789293600-1789315200@www.nnhs.org.uk
SUMMARY:Norfolk & Norwich Horticultural Society Early Autumn Show
DESCRIPTION:Our early autumn show will feature Dahlias\, Early Chrysanthemums\, Cut Flowers\, Pot Plants\, Fruit\, Vegetables and Home Produce.
URL:https://www.nnhs.org.uk/event/norfolk-norwich-horticultural-society-early-autumn-show/
LOCATION:East Tuddenham Jubilee Hall\, East Tuddenham Jubilee Hall\, Mattishall Road\, East Tuddenham\, Norfolk\, NR20 3LR\, United Kingdom
CATEGORIES:Flower & Produce Show
ATTACH;FMTTYPE=image/jpeg:https://www.nnhs.org.uk/wp-content/uploads/2024/12/P1150856-scaled.jpg
ORGANIZER;CN="Norfolk & Norwich Horticultural Society":MAILTO:secretary@nnhs.org.uk
END:VEVENT
BEGIN:VEVENT
DTSTART;TZID=Europe/London:20260916T000000
DTEND;TZID=Europe/London:20260919T235959
DTSTAMP:20260423T152755
CREATED:20250122T114758Z
LAST-MODIFIED:20260219T103352Z
UID:5622-1789516800-1789862399@www.nnhs.org.uk
SUMMARY:NNHS Holiday to Harrogate Autumn Flower Show
DESCRIPTION:We have a three night/four day holiday for our members\, making a return visit to the Harrogate Autumn Flower Show at Newby Hall & Gardens\, which will take place from 18-20 September 2026.    Three nights dinner\, bed & breakfast accommodation has been reserved at The Parsonage Hotel\, Escrick near York by our coach company Avanti.  Cost for members £460 per person sharing a twin/double room (£480 per person for affiliated society members) and £520 for a single person occupying a twin/double room (members only\, limited availability). £10 discount for National Trust members. \nItinerary: \nDepart from East Tuddenham Village Hall at 8am\, parking available.  Comfort stops on route to our first garden. \nWednesday 16 September 2026\, 2pm arrival: Stillingfleet Lodge Gardens \nThursday 17 September 2026\, 11am arrival: full day at RHS Garden Harlow Carr \nFriday 18 September 2026 - full day at Harrogate Autumn Flower Show \nSaturday 19 September 2026 - depart from our hotel.  Visit to National Trust Nostell\, arriving at 10.30 and departing at 2pm. One comfort stop before arrival back at East Tuddenham Village Hall at approximately 6pm.
URL:https://www.nnhs.org.uk/event/nnhs-holiday-to-harrogate-autumn-flower-show/
LOCATION:Harrogate Autumn Flower Show
CATEGORIES:Flower & Produce Show,Garden Visit,Holiday,Meetings
ATTACH;FMTTYPE=image/jpeg:https://www.nnhs.org.uk/wp-content/uploads/2025/01/Newby-Hall-long-border-scaled.jpg
ORGANIZER;CN="Norfolk & Norwich Horticultural Society":MAILTO:secretary@nnhs.org.uk
END:VEVENT
BEGIN:VEVENT
DTSTART;TZID=Europe/London:20261108T100000
DTEND;TZID=Europe/London:20261108T160000
DTSTAMP:20260423T152755
CREATED:20250524T204158Z
LAST-MODIFIED:20250524T204214Z
UID:6112-1794132000-1794153600@www.nnhs.org.uk
SUMMARY:Norfolk & Norwich Horticultural Society Late Autumn Show
DESCRIPTION:Our late autumn show will feature Chrysanthemums\, cut flowers\, pot plants\, fruit\, vegetables\, home produce and floral art.
URL:https://www.nnhs.org.uk/event/norfolk-norwich-horticultural-society-late-autumn-show-3/
LOCATION:St Faiths Centre\, St Faiths Centre\, Horsham St Faith\, Norwich\, Norfolk\, NR10 3LF
CATEGORIES:Flower & Produce Show
ATTACH;FMTTYPE=image/jpeg:https://www.nnhs.org.uk/wp-content/uploads/2023/11/NNHS-LA121123-A-Watson-Class-2-Silver-Medal-Chrysanthemum-Soc-scaled.jpg
ORGANIZER;CN="Norfolk & Norwich Horticultural Society":MAILTO:secretary@nnhs.org.uk
END:VEVENT
BEGIN:VEVENT
DTSTART;TZID=Europe/London:20261205T110000
DTEND;TZID=Europe/London:20261205T130000
DTSTAMP:20260423T152755
CREATED:20251126T165831Z
LAST-MODIFIED:20260215T100239Z
UID:6588-1796468400-1796475600@www.nnhs.org.uk
SUMMARY:Annual General Meeting
DESCRIPTION:We will vote in our trustees and committee for 2026/27 and present our All Shows awards for 2026. \nAll members and affiliated society representatives are welcome to attend.  Tea\, coffee and biscuits from 10.30am\, AGM starts at 11am and finishes by 1pm. \nThe AGM will be followed by a buffet and social event from 1-3.30pm\, £10 per person\, booking now.
URL:https://www.nnhs.org.uk/event/annual-general-meeting/
LOCATION:East Tuddenham Jubilee Hall\, East Tuddenham Jubilee Hall\, Mattishall Road\, East Tuddenham\, Norfolk\, NR20 3LR\, United Kingdom
CATEGORIES:Annual General Meeting
ATTACH;FMTTYPE=image/jpeg:https://www.nnhs.org.uk/wp-content/uploads/2024/08/Gardening-for-everyone-optimise-300x212-2.jpg
ORGANIZER;CN="Norfolk & Norwich Horticultural Society":MAILTO:secretary@nnhs.org.uk
END:VEVENT
BEGIN:VEVENT
DTSTART;TZID=Europe/London:20270807T100000
DTEND;TZID=Europe/London:20270807T170000
DTSTAMP:20260423T152755
CREATED:20251112T102418Z
LAST-MODIFIED:20251124T131842Z
UID:6491-1817632800-1817658000@www.nnhs.org.uk
SUMMARY:Gardening\, Plants and Floral Art Day
DESCRIPTION:Following a successful event in 2025\, we will return to Dereham Memorial Hall in 2027 for something similar including: \n\nGardeners' Question Time chaired by Richard Hobbs.  Panel members to be confirmed\, will include Annette Hurt of My Patch of Norfolk\nLocal gardening/horticultural societies\nPlants from a variety of nurseries including Monksilver Nursery\nFlower arranging demonstration by Arnaud Metairie\n\nMore details to follow in due course.
URL:https://www.nnhs.org.uk/event/gardening-plants-floral-art-day/
LOCATION:Dereham Memorial Hall\, Dereham Memorial Hall\, 62A Norwich Street\, Dereham\, Norfolk\, NR19 1AD\, United Kingdom
CATEGORIES:Gardening & Floral Art Day,Plant Sale
ATTACH;FMTTYPE=image/jpeg:https://www.nnhs.org.uk/wp-content/uploads/2025/11/Gallery-area-020825-scaled.jpg
ORGANIZER;CN="Norfolk & Norwich Horticultural Society":MAILTO:secretary@nnhs.org.uk
END:VEVENT
END:VCALENDAR