BEGIN:VCALENDAR
VERSION:2.0
PRODID:-//Norfolk and Norwich Horticultural Society - ECPv6.15.17.1//NONSGML v1.0//EN
CALSCALE:GREGORIAN
METHOD:PUBLISH
X-WR-CALNAME:Norfolk and Norwich Horticultural Society
X-ORIGINAL-URL:https://www.nnhs.org.uk
X-WR-CALDESC:Events for Norfolk and Norwich Horticultural Society
REFRESH-INTERVAL;VALUE=DURATION:PT1H
X-Robots-Tag:noindex
X-PUBLISHED-TTL:PT1H
BEGIN:VTIMEZONE
TZID:Europe/London
BEGIN:DAYLIGHT
TZOFFSETFROM:+0000
TZOFFSETTO:+0100
TZNAME:BST
DTSTART:20220327T010000
END:DAYLIGHT
BEGIN:STANDARD
TZOFFSETFROM:+0100
TZOFFSETTO:+0000
TZNAME:GMT
DTSTART:20221030T010000
END:STANDARD
BEGIN:DAYLIGHT
TZOFFSETFROM:+0000
TZOFFSETTO:+0100
TZNAME:BST
DTSTART:20230326T010000
END:DAYLIGHT
BEGIN:STANDARD
TZOFFSETFROM:+0100
TZOFFSETTO:+0000
TZNAME:GMT
DTSTART:20231029T010000
END:STANDARD
BEGIN:DAYLIGHT
TZOFFSETFROM:+0000
TZOFFSETTO:+0100
TZNAME:BST
DTSTART:20240331T010000
END:DAYLIGHT
BEGIN:STANDARD
TZOFFSETFROM:+0100
TZOFFSETTO:+0000
TZNAME:GMT
DTSTART:20241027T010000
END:STANDARD
BEGIN:DAYLIGHT
TZOFFSETFROM:+0000
TZOFFSETTO:+0100
TZNAME:BST
DTSTART:20250330T010000
END:DAYLIGHT
BEGIN:STANDARD
TZOFFSETFROM:+0100
TZOFFSETTO:+0000
TZNAME:GMT
DTSTART:20251026T010000
END:STANDARD
BEGIN:DAYLIGHT
TZOFFSETFROM:+0000
TZOFFSETTO:+0100
TZNAME:BST
DTSTART:20260329T010000
END:DAYLIGHT
BEGIN:STANDARD
TZOFFSETFROM:+0100
TZOFFSETTO:+0000
TZNAME:GMT
DTSTART:20261025T010000
END:STANDARD
END:VTIMEZONE
BEGIN:VEVENT
DTSTART;TZID=Europe/London:20250731T063000
DTEND;TZID=Europe/London:20250731T203000
DTSTAMP:20260420T144941
CREATED:20250116T170824Z
LAST-MODIFIED:20250719T092126Z
UID:5601-1753943400-1753993800@www.nnhs.org.uk
SUMMARY:President's Evening - Norfolk & Norwich Horticultural Society
DESCRIPTION:Our 2025 President's Evening will be on 31 July 2025 at Beck Hall\, Billingford near Dereham.  All members and affiliated society representatives and their guests are invited to join us for a social evening and buffet. \nSale of tickets has now closed.
URL:https://www.nnhs.org.uk/event/presidents-evening-norfolk-norwich-horticultural-society/
LOCATION:Norfolk
CATEGORIES:Presidents Evening
ATTACH;FMTTYPE=image/jpeg:https://www.nnhs.org.uk/wp-content/uploads/2024/08/Gardening-for-everyone-optimise-300x212-2.jpg
ORGANIZER;CN="Norfolk & Norwich Horticultural Society":MAILTO:secretary@nnhs.org.uk
END:VEVENT
BEGIN:VEVENT
DTSTART;TZID=Europe/London:20250724T143000
DTEND;TZID=Europe/London:20250724T163000
DTSTAMP:20260420T144941
CREATED:20250715T071158Z
LAST-MODIFIED:20250715T071158Z
UID:6266-1753367400-1753374600@www.nnhs.org.uk
SUMMARY:Monthly Meeting - The Secret Life of Plants - Jim Paine
DESCRIPTION:Our speaker at the monthly meeting in July is Jim Paine of Walnut Tree Nursery. Jim will give us a presentation on 'The Secret Life of Plants' which explores some of the latest and most remarkable discoveries about the inner workings of plants. How do plants tell the time? How and why do plants communicate with one another? Did you know that some plants can generate enough heat to melt snow\, whilst others nourish their young?These and other extraordinary stories from the secret life of plants makes for a fascinating talk that will enhance your enjoyment of the plants in your garden and in the wider countryside.
URL:https://www.nnhs.org.uk/event/monthly-meeting-the-secret-life-of-plants-jim-paine/
LOCATION:Holme Hale Pavilion\, Holme Hale Pavillion\, School Road\,\, Holme Hale\, IP25 7DP
CATEGORIES:Affiliated Society Meeting
ATTACH;FMTTYPE=image/png:https://www.nnhs.org.uk/wp-content/uploads/2025/07/Garden-Club-Speaker-Flyer-July-24th-2025-Life-of-plants-3.png
ORGANIZER;CN="Ashill%2C Holme Hale & District Garden Club":MAILTO:ashillholmehalegardenclub@gmail.com
END:VEVENT
BEGIN:VEVENT
DTSTART;TZID=Europe/London:20250709T193000
DTEND;TZID=Europe/London:20250709T210000
DTSTAMP:20260420T144941
CREATED:20250325T155758Z
LAST-MODIFIED:20250325T155758Z
UID:5874-1752089400-1752094800@www.nnhs.org.uk
SUMMARY:Jewels in the Clouds - alpines in gardens and in the wild
DESCRIPTION:Come along to hear Rosemary Ward talk to the Blofield & District Gardening Club about Jewels in the Clouds - alpines in gardens and in the wild.  Meetings are held at The Margaret Harker Hall\, Yarmouth Road\, Blofield.  The members' competition is "An alpine in a pot".  Guests welcome £2:50.
URL:https://www.nnhs.org.uk/event/jewels-in-the-clouds-alpines-in-gardens-and-in-the-wild/
LOCATION:The Margaret Harker Hall\, Yarmouth Rd\, Blofield\, The Margaret Harker Hall\, Yarmouth Road\, Blofield\, NR134LE\, United Kingdom
CATEGORIES:Affiliated Society Meeting
ATTACH;FMTTYPE=image/jpeg:https://www.nnhs.org.uk/wp-content/uploads/2025/03/P1060408.jpg
ORGANIZER;CN="Blofield & District Gardening Club":MAILTO:Blofieldgardeningclub@outlook.com
END:VEVENT
BEGIN:VEVENT
DTSTART;TZID=Europe/London:20250626T143000
DTEND;TZID=Europe/London:20250626T163000
DTSTAMP:20260420T144941
CREATED:20250604T175804Z
LAST-MODIFIED:20250604T175804Z
UID:6142-1750948200-1750955400@www.nnhs.org.uk
SUMMARY:The Effect of Climate Change on our Gardens - Chris Bell
DESCRIPTION:Well-known Look East weather forecaster and presenter Chris Bell will present us with the latest evidence on how climate change is likely to influence our future gardening practices. Chris is chief communication officer of Weatherquest based at University of East Anglia and also a lecturer in meteorology at UEA. Chris\, who is an entertaining and engaging speaker\, will inform us in clear terms how climate change will likely affect our gardens and how we might work with nature to mitigate the effects so our gardens continue to evolve in a changing climate.
URL:https://www.nnhs.org.uk/event/the-effect-of-climate-change-on-our-gardens-chris-bell/
LOCATION:Holme Hale Pavilion\, Holme Hale Pavillion\, School Road\,\, Holme Hale\, IP25 7DP
CATEGORIES:Affiliated Society Meeting
ATTACH;FMTTYPE=image/png:https://www.nnhs.org.uk/wp-content/uploads/2025/06/Garden-Club-Speaker-Flyer-June-26th-2025.png
ORGANIZER;CN="Ashill%2C Holme Hale & District Garden Club":MAILTO:ashillholmehalegardenclub@gmail.com
END:VEVENT
BEGIN:VEVENT
DTSTART;TZID=Europe/London:20250611T193000
DTEND;TZID=Europe/London:20250611T210000
DTSTAMP:20260420T144941
CREATED:20250325T155938Z
LAST-MODIFIED:20250325T155938Z
UID:5869-1749670200-1749675600@www.nnhs.org.uk
SUMMARY:Flower arranging using flowers and foliage from the garden with Jenni Baker
DESCRIPTION:Come along to hear Jenni Baker talk to the Blofield & District Gardening Club about Flower arranging using Flowers and Foliage from the Garden .  Meetings are held at The Margaret Harker Hall\, Yarmouth Road\, Blofield.  The members' competition is "a posy of garden flowers".  Guests welcome £2:50.
URL:https://www.nnhs.org.uk/event/flower-arranging-using-flowers-and-foliage-from-the-garden-with-jenni-baker/
LOCATION:The Margaret Harker Hall\, Yarmouth Rd\, Blofield\, The Margaret Harker Hall\, Yarmouth Road\, Blofield\, NR134LE\, United Kingdom
CATEGORIES:Affiliated Society Meeting,Flower Arranging Demonstration
ATTACH;FMTTYPE=image/jpeg:https://www.nnhs.org.uk/wp-content/uploads/2025/03/P1060395.jpg
ORGANIZER;CN="Blofield & District Gardening Club":MAILTO:Blofieldgardeningclub@outlook.com
END:VEVENT
BEGIN:VEVENT
DTSTART;TZID=Europe/London:20250514T193000
DTEND;TZID=Europe/London:20250514T213000
DTSTAMP:20260420T144941
CREATED:20250415T162942Z
LAST-MODIFIED:20250415T162942Z
UID:5952-1747251000-1747258200@www.nnhs.org.uk
SUMMARY:Loddon and District Horticultural Society
DESCRIPTION:Propagation.  Learn how to save money by propagating and making your own plants.  Local expert Martin Davey is coming to show us how it can be done.
URL:https://www.nnhs.org.uk/event/loddon-and-district-horticultural-society-13/
LOCATION:Loddon and Chedgrave Jubilee Hall\, Jubilee Hall\, George Lane\, Loddon\, Norwich\, NR14 6NB
CATEGORIES:Affiliated Society Meeting
ATTACH;FMTTYPE=image/jpeg:https://www.nnhs.org.uk/wp-content/uploads/2025/04/2025-05-scaled.jpg
END:VEVENT
BEGIN:VEVENT
DTSTART;TZID=Europe/London:20250514T193000
DTEND;TZID=Europe/London:20250514T210000
DTSTAMP:20260420T144941
CREATED:20250325T155846Z
LAST-MODIFIED:20250325T155846Z
UID:5863-1747251000-1747256400@www.nnhs.org.uk
SUMMARY:English Peonies – a talk by Sarah Hammond
DESCRIPTION:Come along to hear Sarah Hammond talk to the Blofield & District Gardening Club about English Peonies.  Meetings are held at The Margaret Harker Hall\, Yarmouth Road\, Blofield.  The members' competition is "a stem of a flowering shrub".  Guests welcome £2:50.
URL:https://www.nnhs.org.uk/event/english-peonies-a-talk-by-sarah-hammond/
LOCATION:The Margaret Harker Hall\, Yarmouth Rd\, Blofield\, The Margaret Harker Hall\, Yarmouth Road\, Blofield\, NR134LE\, United Kingdom
CATEGORIES:Affiliated Society Meeting,Social
ATTACH;FMTTYPE=image/jpeg:https://www.nnhs.org.uk/wp-content/uploads/2025/03/July-2016-Annual-Summer-Show.jpg
ORGANIZER;CN="Blofield & District Gardening Club":MAILTO:Blofieldgardeningclub@outlook.com
END:VEVENT
BEGIN:VEVENT
DTSTART;TZID=Europe/London:20250424T143000
DTEND;TZID=Europe/London:20250424T163000
DTSTAMP:20260420T144941
CREATED:20250407T091149Z
LAST-MODIFIED:20250407T091149Z
UID:5894-1745505000-1745512200@www.nnhs.org.uk
SUMMARY:English Peonies - by Sarah Hammond
DESCRIPTION:Sarah Hammond is a sustainable artisan florist and flower farmer in North Norfolk growing fabulous flowers in her walled cutting garden and amazing peonies on her farm in North Walsham. Sarah’s family have been growing a range of peonies\, with other flowers\, on their family farm for the last 50 years. Sarah also teaches sustainable flower growing and floristry at The Norfolk School of Gardening. With her many years’ experience Sarah will give us expert advice in growing and caring for Peonies.
URL:https://www.nnhs.org.uk/event/english-peonies-by-sarah-hammond/
LOCATION:Holme Hale Pavilion\, Holme Hale Pavillion\, School Road\,\, Holme Hale\, IP25 7DP
CATEGORIES:Affiliated Society Meeting
ATTACH;FMTTYPE=image/png:https://www.nnhs.org.uk/wp-content/uploads/2025/04/Garden-Club-Speaker-Flyer-April-2025.png
ORGANIZER;CN="Ashill%2C Holme Hale & District Garden Club":MAILTO:ashillholmehalegardenclub@gmail.com
END:VEVENT
BEGIN:VEVENT
DTSTART;TZID=Europe/London:20250413T110000
DTEND;TZID=Europe/London:20250413T120000
DTSTAMP:20260420T144941
CREATED:20250220T115220Z
LAST-MODIFIED:20250220T115220Z
UID:5739-1744542000-1744545600@www.nnhs.org.uk
SUMMARY:NNHS Affiliated Society Meeting
DESCRIPTION:Our next meeting of our Affiliated Societies will take place on the morning of our Spring Show in the Jerningham Room on the first floor of the Costessey Centre.  Representatives from all affiliated societies are welcome to attend\, and if you are thinking about joining us then you are welcome too! \nWe will share information and ideas and do some networking.
URL:https://www.nnhs.org.uk/event/nnhs-affiliated-society-meeting-2/
LOCATION:The Costessey Centre\, The Costessey Centre\, Longwater Lane\, Costessey\, Norwich\, Norfolk\, NR8 5AH
CATEGORIES:Affiliated Society Meeting
ATTACH;FMTTYPE=image/jpeg:https://www.nnhs.org.uk/wp-content/uploads/2024/08/Gardening-for-everyone-optimise-300x212-1.jpg
ORGANIZER;CN="Norfolk & Norwich Horticultural Society":MAILTO:secretary@nnhs.org.uk
END:VEVENT
BEGIN:VEVENT
DTSTART;TZID=Europe/London:20250403T193000
DTEND;TZID=Europe/London:20250403T210000
DTSTAMP:20260420T144941
CREATED:20250310T120304Z
LAST-MODIFIED:20250310T120304Z
UID:5799-1743708600-1743714000@www.nnhs.org.uk
SUMMARY:"Things of Spring" - flower arranging demonstration by Jacquie Aldous
DESCRIPTION:Shipdham Garden Club & Horticultural Society look forward to welcoming very popular local flower arranger  and Dereham Flower Club member Jacquie Aldous to their April 2025 meeting for something a bit different to our usual speakers on gardening related subjects.  The theme will be "Things of Spring" and the arrangements will be raffled at the end of the evening. \nFree to attend for our members and just £3 per person for visitors.
URL:https://www.nnhs.org.uk/event/things-of-spring-flower-arranging-demonstration-by-jacquie-aldous/
LOCATION:WI Hall Shipdham\, Shipdam W I Hall\, High Street\, Shipdham\, Thetford\, Norfolk\, IP25 7PA\, United Kingdom
CATEGORIES:Affiliated Society Meeting,Flower Arranging Demonstration,Meetings,Talks
ATTACH;FMTTYPE=image/png:https://www.nnhs.org.uk/wp-content/uploads/2025/03/Daffodils.png
END:VEVENT
BEGIN:VEVENT
DTSTART;TZID=Europe/London:20250327T143000
DTEND;TZID=Europe/London:20250327T163000
DTSTAMP:20260420T144941
CREATED:20250313T103635Z
LAST-MODIFIED:20250313T103635Z
UID:5833-1743085800-1743093000@www.nnhs.org.uk
SUMMARY:Companion Planting for a Balanced Garden
DESCRIPTION:At our March meeting well known speaker Dr Ian Bedford\, formerly of the John Innes Institute\, will explain the concepts of Companion Planting and whether we can expect to see results when it's used. Besides using plants to help other plants\, many plants are also reported to have properties that can either attract or repel bugs. The talk details some of them and how they can be used in our gardens to create a natural balance system for attracting nature and keeping the pests under control.
URL:https://www.nnhs.org.uk/event/companion-planting-for-a-balanced-garden/
LOCATION:Holme Hale Pavilion\, Holme Hale Pavillion\, School Road\,\, Holme Hale\, IP25 7DP
CATEGORIES:Affiliated Society Meeting
ATTACH;FMTTYPE=image/png:https://www.nnhs.org.uk/wp-content/uploads/2025/03/Garden-Club-Speaker-Flyer-March-2025-no-hearts.png
ORGANIZER;CN="Ashill%2C Holme Hale & District Garden Club":MAILTO:ashillholmehalegardenclub@gmail.com
END:VEVENT
BEGIN:VEVENT
DTSTART;TZID=Europe/London:20250312T193000
DTEND;TZID=Europe/London:20250312T213000
DTSTAMP:20260420T144941
CREATED:20250110T102456Z
LAST-MODIFIED:20250110T102456Z
UID:5572-1741807800-1741815000@www.nnhs.org.uk
SUMMARY:Loddon and District Horticultural Society
DESCRIPTION:Talk on Costa Rica by Pat Alker.  International traveller Pat comes along to show us the range of flora and fauna in Costa Rica\, including Jaguars\, Monkeys and Birds\, and of course all the Orchids that grow there.  Visitors £2 with refreshments and raffle.
URL:https://www.nnhs.org.uk/event/loddon-and-district-horticultural-society-11/
LOCATION:Loddon and Chedgrave Jubilee Hall\, Jubilee Hall\, George Lane\, Loddon\, Norwich\, NR14 6NB
CATEGORIES:Meetings
ATTACH;FMTTYPE=image/jpeg:https://www.nnhs.org.uk/wp-content/uploads/2025/01/2025-03-scaled.jpg
END:VEVENT
BEGIN:VEVENT
DTSTART;TZID=Europe/London:20250312T193000
DTEND;TZID=Europe/London:20250312T210000
DTSTAMP:20260420T144941
CREATED:20250209T190231Z
LAST-MODIFIED:20250209T190231Z
UID:5709-1741807800-1741813200@www.nnhs.org.uk
SUMMARY:March meeting of the Blofield & District Gardening Club
DESCRIPTION:Our next meeting is on Wednesday evening\, 12th March (7:30 pm) at The Margaret Harker Hall in Blofield.  The full programme of talks for the year will be disclosed plus the schedule for the Club’s Summer Show in July.  Light refreshments plus a gardening demo and a quiz will be offered after the meeting.  This meeting is free and open to all – do please come along to see what is being planned. \nOn Wednesday evening\, 9th April (7:30 pm) we are very pleased to welcome Simon White from Peter Beales Roses\, Attleborough\, to speak about “Highlights of Chelsea and Hampton Court Shows”.  The company has very successfully competed at these important events\, and Simon will discuss and illustrate their award-winning entries.  All very welcome to the talk – members free\, visitors £2:50 which includes light refreshment.  Queries to (01603) 715804.  Website: www.blofieldgardeningclub.org.uk
URL:https://www.nnhs.org.uk/event/march-meeting-of-the-blofield-district-gardening-club/
LOCATION:The Margaret Harker Hall\, Yarmouth Rd\, Blofield\, The Margaret Harker Hall\, Yarmouth Road\, Blofield\, NR134LE\, United Kingdom
CATEGORIES:Annual General Meeting
ATTACH;FMTTYPE=image/jpeg:https://www.nnhs.org.uk/wp-content/uploads/2025/02/P1080766.jpg
ORGANIZER;CN="Blofield & District Gardening Club":MAILTO:Blofieldgardeningclub@outlook.com
END:VEVENT
BEGIN:VEVENT
DTSTART;TZID=Europe/London:20250212T193000
DTEND;TZID=Europe/London:20250212T213000
DTSTAMP:20260420T144941
CREATED:20250110T102548Z
LAST-MODIFIED:20250110T102548Z
UID:5567-1739388600-1739395800@www.nnhs.org.uk
SUMMARY:Loddon and District Horticultural Society
DESCRIPTION:Talk on Pelargoniums by Ken Able.  Ken is described as "The UK's best grower of show Pelargoniums" and joins us to share his passion\, covering how to take cuttings\, propagation\, the best substrate\, feeding and showing.  He will bring plants for sale.  Visitors £2.
URL:https://www.nnhs.org.uk/event/loddon-and-district-horticultural-society-12/
LOCATION:Loddon and Chedgrave Jubilee Hall\, Jubilee Hall\, George Lane\, Loddon\, Norwich\, NR14 6NB
CATEGORIES:Meetings
ATTACH;FMTTYPE=image/jpeg:https://www.nnhs.org.uk/wp-content/uploads/2025/01/2025-02-scaled.jpg
END:VEVENT
BEGIN:VEVENT
DTSTART;TZID=Europe/London:20241207T120000
DTEND;TZID=Europe/London:20241207T163000
DTSTAMP:20260420T144941
CREATED:20240129T101541Z
LAST-MODIFIED:20241022T105810Z
UID:4077-1733572800-1733589000@www.nnhs.org.uk
SUMMARY:NNHS Annual General Meeting plus pre-AGM buffet & 3pm talk
DESCRIPTION:Our 2024 Annual General Meeting will be at East Tuddenham Jubilee Hall. \nAll members are welcome to attend plus representatives of affiliated societies. \nPre-AGM Buffet at 12 noon - 1.15pm\, £10 per person\, including the talk at 3pm. \nAnnual General Meeting & All Shows Awards 1.30pm - 2.30pm.  Tea & coffee will be served from 1.15pm.  All members are welcome to attend just the AGM\, no charge. \n2.30pm - break. \n3pm: Talk on Monet's Garden at Giverny.  £5 per person for those not booked on the buffet.  See separate Event listing to book a place.
URL:https://www.nnhs.org.uk/event/annual-general-meeting-3/
LOCATION:East Tuddenham Jubilee Hall\, East Tuddenham Jubilee Hall\, Mattishall Road\, East Tuddenham\, Norfolk\, NR20 3LR\, United Kingdom
CATEGORIES:Annual General Meeting,Meetings
ATTACH;FMTTYPE=image/jpeg:https://www.nnhs.org.uk/wp-content/uploads/2019/10/Gardening-for-everyone-2.jpg
ORGANIZER;CN="Norfolk & Norwich Horticultural Society":MAILTO:secretary@nnhs.org.uk
END:VEVENT
BEGIN:VEVENT
DTSTART;TZID=Europe/London:20241107T193000
DTEND;TZID=Europe/London:20241107T210000
DTSTAMP:20260420T144941
CREATED:20241103T102843Z
LAST-MODIFIED:20241103T102843Z
UID:5349-1731007800-1731013200@www.nnhs.org.uk
SUMMARY:Shipdham Garden Club - talk by Andrew Sankey on The Gardens of Minnesota
DESCRIPTION:This month we will be pleased to welcome Andrew Sankey who will talk to us about the Land of ten thousand Lakes - the Gardens of Minnesota. \nFree to members.  Visitors welcome\, £3 per person including tea/coffee & biscuits.
URL:https://www.nnhs.org.uk/event/shipdham-garden-club-talk-by-andrew-sankey-on-the-gardens-of-minnesota/
LOCATION:WI Hall Shipdham\, Shipdam W I Hall\, High Street\, Shipdham\, Thetford\, Norfolk\, IP25 7PA\, United Kingdom
CATEGORIES:Meetings,Talks
ATTACH;FMTTYPE=image/jpeg:https://www.nnhs.org.uk/wp-content/uploads/2024/11/401630578_740989564736794_3736119300772995597_n.jpg
END:VEVENT
BEGIN:VEVENT
DTSTART;TZID=Europe/London:20240915T110000
DTEND;TZID=Europe/London:20240915T120000
DTSTAMP:20260420T144941
CREATED:20240823T101601Z
LAST-MODIFIED:20240823T101601Z
UID:5085-1726398000-1726401600@www.nnhs.org.uk
SUMMARY:NNHS Affiliated Society Meeting
DESCRIPTION:Our next meeting of Affiliated Societies will take place in the Jerningham Room on the first floor of The Costessey Centre.  All affiliated societies are invited to send representatives.  We discuss common issues and share best practices and ideas\, supporting and encouraging each other in the process.
URL:https://www.nnhs.org.uk/event/nnhs-affiliated-society-meeting/
LOCATION:The Costessey Centre\, The Costessey Centre\, Longwater Lane\, Costessey\, Norwich\, Norfolk\, NR8 5AH
CATEGORIES:Meetings
ATTACH;FMTTYPE=image/jpeg:https://www.nnhs.org.uk/wp-content/uploads/2024/08/Gardening-for-everyone-optimise-300x212-1.jpg
ORGANIZER;CN="Norfolk & Norwich Horticultural Society":MAILTO:secretary@nnhs.org.uk
END:VEVENT
BEGIN:VEVENT
DTSTART;TZID=Europe/London:20240517T183000
DTEND;TZID=Europe/London:20240517T203000
DTSTAMP:20260420T144941
CREATED:20231017T103912Z
LAST-MODIFIED:20240423T135212Z
UID:3849-1715970600-1715977800@www.nnhs.org.uk
SUMMARY:President's Evening at Little Plumstead Walled Garden
DESCRIPTION:Members & affiliated society members plus their guests are invited to join our President\, Julia Stafford Allen\, at Little Plumstead Walled Garden for a social evening with refreshments and an opportunity to view the work completed in the garden.  Julia is the County Organiser  for the National Garden Scheme Norfolk and the Walled Garden is one of the venues that opens for the National Garden Scheme. \nArrive from 6pm for a 6.30pm start.  The Walled Garden shop will be open until 7pm for browsing/purchases.  Refreshments will be served from 6.30pm. \nBooking now closed. \n 
URL:https://www.nnhs.org.uk/event/presidents-evening-at-little-plumstead-walled-garden/
LOCATION:The Walled Garden\, Little Plumstead\, The Walled Garden\, Old Hall Road\, Little Plumstead\, Norwich\, Norfolk\, NR143 5FA\, United Kingdom
CATEGORIES:Garden Visit,Meetings,Presidents Evening
ATTACH;FMTTYPE=image/jpeg:https://www.nnhs.org.uk/wp-content/uploads/2023/10/Walled-garden.jpg
ORGANIZER;CN="Norfolk & Norwich Horticultural Society":MAILTO:secretary@nnhs.org.uk
END:VEVENT
BEGIN:VEVENT
DTSTART;TZID=Europe/London:20240414T110000
DTEND;TZID=Europe/London:20240414T120000
DTSTAMP:20260420T144941
CREATED:20240307T184758Z
LAST-MODIFIED:20240307T184758Z
UID:4190-1713092400-1713096000@www.nnhs.org.uk
SUMMARY:Affiliated Societies Meeting
DESCRIPTION:An opportunity for representatives from our affiliated societies to meet and discuss common issues and best practices. \nIn the Jerningham Room on the first floor at The Costessey Centre.
URL:https://www.nnhs.org.uk/event/affiliated-societies-meeting/
LOCATION:The Costessey Centre\, The Costessey Centre\, Longwater Lane\, Costessey\, Norwich\, Norfolk\, NR8 5AH
CATEGORIES:Meetings
ATTACH;FMTTYPE=image/jpeg:https://www.nnhs.org.uk/wp-content/uploads/2020/02/Gardening-for-everyone-optimise.jpg
ORGANIZER;CN="Norfolk & Norwich Horticultural Society":MAILTO:secretary@nnhs.org.uk
END:VEVENT
BEGIN:VEVENT
DTSTART;TZID=Europe/London:20240312T193000
DTEND;TZID=Europe/London:20240312T213000
DTSTAMP:20260420T144941
CREATED:20240305T171943Z
LAST-MODIFIED:20240305T171943Z
UID:4160-1710271800-1710279000@www.nnhs.org.uk
SUMMARY:Diss & District Horticultural Society
DESCRIPTION:March Monthly Meeting
URL:https://www.nnhs.org.uk/event/diss-district-horticultural-society-3/
LOCATION:Diss United Reform Church\, Diss United Reform Church\, Mere Street\, Diss\, IP22 4AD
CATEGORIES:Meetings
ATTACH;FMTTYPE=image/png:https://www.nnhs.org.uk/wp-content/uploads/2024/03/Meeting-Reminder-March.png
END:VEVENT
BEGIN:VEVENT
DTSTART;TZID=Europe/London:20240113T140000
DTEND;TZID=Europe/London:20240113T163000
DTSTAMP:20260420T144941
CREATED:20231017T095251Z
LAST-MODIFIED:20231017T095251Z
UID:3844-1705154400-1705163400@www.nnhs.org.uk
SUMMARY:Annual General Meeting
DESCRIPTION:All members and representatives of our affiliated societies are invited to attend our Annual General Meeting.  We will be discussing our activities for year ended 30 September 2023 and looking forward to future events.  We will also make our All Shows trophy awards for 2023. \nArrive from 1.30pm for tea/coffee and the AGM will start at 2pm.  There will be an opportunity to socialise after the meeting.
URL:https://www.nnhs.org.uk/event/annual-general-meeting-2/
LOCATION:East Tuddenham Jubilee Hall\, East Tuddenham Jubilee Hall\, Mattishall Road\, East Tuddenham\, Norfolk\, NR20 3LR\, United Kingdom
CATEGORIES:Annual General Meeting,Meetings
ATTACH;FMTTYPE=image/jpeg:https://www.nnhs.org.uk/wp-content/uploads/2020/02/Gardening-for-everyone-optimise.jpg
ORGANIZER;CN="Norfolk & Norwich Horticultural Society":MAILTO:secretary@nnhs.org.uk
END:VEVENT
BEGIN:VEVENT
DTSTART;TZID=Europe/London:20231123T023000
DTEND;TZID=Europe/London:20231123T163000
DTSTAMP:20260420T144941
CREATED:20231118T153412Z
LAST-MODIFIED:20231118T153412Z
UID:3885-1700706600-1700757000@www.nnhs.org.uk
SUMMARY:Wildlife Garden Ponds
DESCRIPTION:Our November meeting will have the well known Norfolk naturalist and author Simon Harrap give a presentation on Wildlife Garden Ponds. Simon has written several books on wildlife topics including wildflowers. Along with his wife Anne\, Simon runs Natural Surroundings on the Bayfield estate near Holt in Norfolk. Simon is passionate about encouraging wildlife into our gardens with either plantings or via a wildlife pond. Simon will talk about how to create a wildlife pond in your garden and how to maximise attracting wildlife into it. Simon will also talk about how to maintain your wildlife pond through the seasons.
URL:https://www.nnhs.org.uk/event/wildlife-garden-ponds/
LOCATION:Holme Hale Pavilion\, Holme Hale Pavillion\, School Road\,\, Holme Hale\, IP25 7DP
CATEGORIES:Meetings
ATTACH;FMTTYPE=image/jpeg:https://www.nnhs.org.uk/wp-content/uploads/2023/11/images.jpg
END:VEVENT
BEGIN:VEVENT
DTSTART;TZID=Europe/London:20230721T183000
DTEND;TZID=Europe/London:20230721T203000
DTSTAMP:20260420T144941
CREATED:20230203T162149Z
LAST-MODIFIED:20230712T125506Z
UID:3348-1689964200-1689971400@www.nnhs.org.uk
SUMMARY:NNHS President's Evening at Castle Acre (Booking closed)
DESCRIPTION:Booking now closed. \nMembers\, affiliated society members and their guests are invited by our President\, Julia Stafford Allen to an evening at her home in Castle Acre. \n£12.50 per person including buffet and drinks. \n 
URL:https://www.nnhs.org.uk/event/presidents-evening-at-castle-acre/
LOCATION:Tudor Lodgings\, Pales Green\, Castle Acre\, King's Lynn\, Norfolk\, PE32 2Al\, United Kingdom
CATEGORIES:Presidents Evening
ATTACH;FMTTYPE=image/jpeg:https://www.nnhs.org.uk/wp-content/uploads/2023/02/Tudor-Lodgings.jpg
ORGANIZER;CN="Norfolk & Norwich Horticultural Society":MAILTO:secretary@nnhs.org.uk
END:VEVENT
BEGIN:VEVENT
DTSTART;TZID=Europe/London:20230624T140000
DTEND;TZID=Europe/London:20230624T170000
DTSTAMP:20260420T144941
CREATED:20230608T084856Z
LAST-MODIFIED:20230608T084856Z
UID:3605-1687615200-1687626000@www.nnhs.org.uk
SUMMARY:Alpine Garden Society Norfolk Group - a talk by David Livermore - Russian Caucasus
DESCRIPTION:A talk by David Livermore - Russian Caucasus.  David will talk about a holiday he and wife Liz took in the Russian Caucasus\, and this will be a rare opportunity to see what grows in that part of the world. \n 
URL:https://www.nnhs.org.uk/event/alpine-garden-society-norfolk-group-a-talk-by-david-livermore-russian-caucasus/
LOCATION:Hethersett Village Hall\, Hethersett Village Hall\, Back Lane\, Hethersett\, Norwich\, Norfolk\, NR9 3JJ\, United Kingdom
CATEGORIES:Meetings,Talks
ATTACH;FMTTYPE=image/jpeg:https://www.nnhs.org.uk/wp-content/uploads/2023/06/blue.jpg
ORGANIZER;CN="Alpine Garden Society%2C Norfolk Group":MAILTO:dianenblyth@gmail.com
END:VEVENT
END:VCALENDAR