BEGIN:VCALENDAR
VERSION:2.0
PRODID:-//Norfolk and Norwich Horticultural Society - ECPv6.15.20//NONSGML v1.0//EN
CALSCALE:GREGORIAN
METHOD:PUBLISH
X-WR-CALNAME:Norfolk and Norwich Horticultural Society
X-ORIGINAL-URL:https://www.nnhs.org.uk
X-WR-CALDESC:Events for Norfolk and Norwich Horticultural Society
REFRESH-INTERVAL;VALUE=DURATION:PT1H
X-Robots-Tag:noindex
X-PUBLISHED-TTL:PT1H
BEGIN:VTIMEZONE
TZID:Europe/London
BEGIN:DAYLIGHT
TZOFFSETFROM:+0000
TZOFFSETTO:+0100
TZNAME:BST
DTSTART:20230326T010000
END:DAYLIGHT
BEGIN:STANDARD
TZOFFSETFROM:+0100
TZOFFSETTO:+0000
TZNAME:GMT
DTSTART:20231029T010000
END:STANDARD
BEGIN:DAYLIGHT
TZOFFSETFROM:+0000
TZOFFSETTO:+0100
TZNAME:BST
DTSTART:20240331T010000
END:DAYLIGHT
BEGIN:STANDARD
TZOFFSETFROM:+0100
TZOFFSETTO:+0000
TZNAME:GMT
DTSTART:20241027T010000
END:STANDARD
BEGIN:DAYLIGHT
TZOFFSETFROM:+0000
TZOFFSETTO:+0100
TZNAME:BST
DTSTART:20250330T010000
END:DAYLIGHT
BEGIN:STANDARD
TZOFFSETFROM:+0100
TZOFFSETTO:+0000
TZNAME:GMT
DTSTART:20251026T010000
END:STANDARD
END:VTIMEZONE
BEGIN:VEVENT
DTSTART;VALUE=DATE:20240626
DTEND;VALUE=DATE:20240628
DTSTAMP:20260424T135753
CREATED:20230926T145525Z
LAST-MODIFIED:20230926T145525Z
UID:3822-1719360000-1719532799@www.nnhs.org.uk
SUMMARY:Summer Show
DESCRIPTION:Our summer show will take place within the Garden Village at the Royal Norfolk Show and feature cut flowers\, pot plants\, vegetables and fruit.  Norwich Group of Flower Clubs organise the floral art exhibits alongside our show. \nEntry to our show is open to all.  Please see separate Show pages. \nVisitors need to purchase a ticket to the Royal Norfolk Show.
URL:https://www.nnhs.org.uk/event/summer-show-2/
LOCATION:Norfolk Showground\, Norfolk Showground\, Dereham Road\, Norwich\, Norfolk\, NR5 0TT\, United Kingdom
CATEGORIES:Show
ATTACH;FMTTYPE=image/jpeg:https://www.nnhs.org.uk/wp-content/uploads/2023/09/Best-in-show-scaled.jpg
ORGANIZER;CN="Norfolk & Norwich Horticultural Society":MAILTO:secretary@nnhs.org.uk
END:VEVENT
BEGIN:VEVENT
DTSTART;TZID=Europe/London:20240630T000000
DTEND;TZID=Europe/London:20240630T000000
DTSTAMP:20260424T135753
CREATED:20240630T190923Z
LAST-MODIFIED:20240630T191036Z
UID:4693-1719705600-1719705600@www.nnhs.org.uk
SUMMARY:Coach trip to Alpine Garden Society Spring Show
DESCRIPTION:For the second year running\, the Alpine Garden Society Spring Show will take place at Chelmsford Racecourse on 1 March 2025. \nWe have a coach booked with Avanti Travel.  Further details and booking details will follow.
URL:https://www.nnhs.org.uk/event/coach-trip-to-alpine-garden-society-spring-show/
CATEGORIES:Coach Trip,Plant Fair,Show
ATTACH;FMTTYPE=image/jpeg:https://www.nnhs.org.uk/wp-content/uploads/2024/06/P1150130-scaled.jpg
END:VEVENT
BEGIN:VEVENT
DTSTART;TZID=Europe/London:20240630T140000
DTEND;TZID=Europe/London:20240630T163000
DTSTAMP:20260424T135753
CREATED:20240515T191139Z
LAST-MODIFIED:20240515T191139Z
UID:4585-1719756000-1719765000@www.nnhs.org.uk
SUMMARY:Annual Flower Show
DESCRIPTION:With over 200 entries across 11 flower classes\, plus crafts\, photography and home baking classes this is a show not to miss! The show is open to the general public from 2.00pm to 4.30pm. In addition to the floral entries there will be a quality plant sale and tombola prizes. Refreshments will be served\, including delicious home made cakes. So come along and support your local garden club for a lovely afternoon enjoying floral beauty and good company
URL:https://www.nnhs.org.uk/event/annual-flower-show/
LOCATION:Holme Hale Pavilion\, Holme Hale Pavillion\, School Road\,\, Holme Hale\, IP25 7DP
CATEGORIES:Flower & Produce Show
ATTACH;FMTTYPE=image/jpeg:https://www.nnhs.org.uk/wp-content/uploads/2024/05/Garden-Club-Flower-Show-Publication-2024-jpeg.jpg
ORGANIZER;CN="Ashill%2C Holme Hale & District Garden Club":MAILTO:ashillholmehalegardenclub@gmail.com
END:VEVENT
END:VCALENDAR