BEGIN:VCALENDAR
VERSION:2.0
PRODID:-//Norfolk and Norwich Horticultural Society - ECPv6.15.20//NONSGML v1.0//EN
CALSCALE:GREGORIAN
METHOD:PUBLISH
X-ORIGINAL-URL:https://www.nnhs.org.uk
X-WR-CALDESC:Events for Norfolk and Norwich Horticultural Society
REFRESH-INTERVAL;VALUE=DURATION:PT1H
X-Robots-Tag:noindex
X-PUBLISHED-TTL:PT1H
BEGIN:VTIMEZONE
TZID:Europe/London
BEGIN:DAYLIGHT
TZOFFSETFROM:+0000
TZOFFSETTO:+0100
TZNAME:BST
DTSTART:20240331T010000
END:DAYLIGHT
BEGIN:STANDARD
TZOFFSETFROM:+0100
TZOFFSETTO:+0000
TZNAME:GMT
DTSTART:20241027T010000
END:STANDARD
BEGIN:DAYLIGHT
TZOFFSETFROM:+0000
TZOFFSETTO:+0100
TZNAME:BST
DTSTART:20250330T010000
END:DAYLIGHT
BEGIN:STANDARD
TZOFFSETFROM:+0100
TZOFFSETTO:+0000
TZNAME:GMT
DTSTART:20251026T010000
END:STANDARD
BEGIN:DAYLIGHT
TZOFFSETFROM:+0000
TZOFFSETTO:+0100
TZNAME:BST
DTSTART:20260329T010000
END:DAYLIGHT
BEGIN:STANDARD
TZOFFSETFROM:+0100
TZOFFSETTO:+0000
TZNAME:GMT
DTSTART:20261025T010000
END:STANDARD
END:VTIMEZONE
BEGIN:VEVENT
DTSTART;TZID=Europe/London:20250911T090000
DTEND;TZID=Europe/London:20250911T170000
DTSTAMP:20260424T165525
CREATED:20250806T205737Z
LAST-MODIFIED:20250806T205737Z
UID:6297-1757581200-1757610000@www.nnhs.org.uk
SUMMARY:Full day Outing to Knebworth House Gardens
DESCRIPTION:Ashill\, Holme Hale & District Garden Club have a full day outing planned to Knebworth House Gardens on Thursday September 11th\, 2025. This event is open to non-members who would be very welcome to join us to visit the 28 acres of formal gardens at Knebworth House. The visit will be on a closed day (not open to public) so almost exclusive visit to the gardens. There is a cafe on site and you can also bring your own picnic. The cost of the trip is £30 pp to cover both the coach fare and entry to the gardens. The coach will leave Holme Hale Pavilion at 9.00am to arrive at the gardens soon after 11am. There is a toilet on the coach. The Coach will leave Knebworth around 4.00pm to arrive back at Holme Hale pavilion around 6.00pm. Free Parking is available on the day at Holme Hale pavilion. See attached poster for more information on the gardens and how to book you places on the outing. Latest booking date is August 28th.
URL:https://www.nnhs.org.uk/event/full-day-outing-to-knebworth-house-gardens/
LOCATION:Holme Hale Pavilion\, Holme Hale Pavillion\, School Road\,\, Holme Hale\, IP25 7DP
CATEGORIES:Garden Visit
ATTACH;FMTTYPE=image/png:https://www.nnhs.org.uk/wp-content/uploads/2025/08/Garden-Club-Outing-to-Knebworth-2025.png
ORGANIZER;CN="Ashill%2C Holme Hale & District Garden Club":MAILTO:ashillholmehalegardenclub@gmail.com
END:VEVENT
END:VCALENDAR